BEGIN:VCALENDAR
VERSION:2.0
PRODID:-//Lincoln-Eliot PTO - ECPv6.15.20//NONSGML v1.0//EN
CALSCALE:GREGORIAN
METHOD:PUBLISH
X-WR-CALNAME:Lincoln-Eliot PTO
X-ORIGINAL-URL:https://lepto.org
X-WR-CALDESC:Events for Lincoln-Eliot PTO
REFRESH-INTERVAL;VALUE=DURATION:PT1H
X-Robots-Tag:noindex
X-PUBLISHED-TTL:PT1H
BEGIN:VTIMEZONE
TZID:America/New_York
BEGIN:DAYLIGHT
TZOFFSETFROM:-0500
TZOFFSETTO:-0400
TZNAME:EDT
DTSTART:20240310T070000
END:DAYLIGHT
BEGIN:STANDARD
TZOFFSETFROM:-0400
TZOFFSETTO:-0500
TZNAME:EST
DTSTART:20241103T060000
END:STANDARD
BEGIN:DAYLIGHT
TZOFFSETFROM:-0500
TZOFFSETTO:-0400
TZNAME:EDT
DTSTART:20250309T070000
END:DAYLIGHT
BEGIN:STANDARD
TZOFFSETFROM:-0400
TZOFFSETTO:-0500
TZNAME:EST
DTSTART:20251102T060000
END:STANDARD
BEGIN:DAYLIGHT
TZOFFSETFROM:-0500
TZOFFSETTO:-0400
TZNAME:EDT
DTSTART:20260308T070000
END:DAYLIGHT
BEGIN:STANDARD
TZOFFSETFROM:-0400
TZOFFSETTO:-0500
TZNAME:EST
DTSTART:20261101T060000
END:STANDARD
BEGIN:DAYLIGHT
TZOFFSETFROM:-0500
TZOFFSETTO:-0400
TZNAME:EDT
DTSTART:20270314T070000
END:DAYLIGHT
BEGIN:STANDARD
TZOFFSETFROM:-0400
TZOFFSETTO:-0500
TZNAME:EST
DTSTART:20271107T060000
END:STANDARD
END:VTIMEZONE
BEGIN:VEVENT
DTSTART;TZID=America/New_York:20260528T170000
DTEND;TZID=America/New_York:20260528T190000
DTSTAMP:20260423T164354
CREATED:20260329T142841Z
LAST-MODIFIED:20260329T142841Z
UID:8246-1779987600-1779994800@lepto.org
SUMMARY:Multicultural Night
DESCRIPTION:
URL:https://lepto.org/event/multicultural-night
END:VEVENT
BEGIN:VEVENT
DTSTART;VALUE=DATE:20260525
DTEND;VALUE=DATE:20260526
DTSTAMP:20260423T164354
CREATED:20250916T023938Z
LAST-MODIFIED:20250916T023938Z
UID:6678-1779667200-1779753599@lepto.org
SUMMARY:NO SCHOOL (Memorial Day)
DESCRIPTION:
URL:https://lepto.org/event/no-school-memorial-day
END:VEVENT
BEGIN:VEVENT
DTSTART;VALUE=DATE:20260520
DTEND;VALUE=DATE:20260521
DTSTAMP:20260423T164354
CREATED:20251114T024041Z
LAST-MODIFIED:20251114T024041Z
UID:7241-1779235200-1779321599@lepto.org
SUMMARY:4th and 5th grade spring concert
DESCRIPTION:
URL:https://lepto.org/event/4th-and-5th-grade-spring-concert
END:VEVENT
BEGIN:VEVENT
DTSTART;VALUE=DATE:20260507
DTEND;VALUE=DATE:20260508
DTSTAMP:20260423T164354
CREATED:20250916T023843Z
LAST-MODIFIED:20250916T023843Z
UID:6676-1778112000-1778198399@lepto.org
SUMMARY:Early Release (12:10pm)
DESCRIPTION:
URL:https://lepto.org/event/early-release-1210pm-5
END:VEVENT
BEGIN:VEVENT
DTSTART;VALUE=DATE:20260420
DTEND;VALUE=DATE:20260425
DTSTAMP:20260423T164354
CREATED:20250916T023811Z
LAST-MODIFIED:20250916T023811Z
UID:6674-1776643200-1777075199@lepto.org
SUMMARY:Spring Recess
DESCRIPTION:
URL:https://lepto.org/event/spring-recess
END:VEVENT
BEGIN:VEVENT
DTSTART;TZID=America/New_York:20260409T180000
DTEND;TZID=America/New_York:20260409T200000
DTSTAMP:20260423T164354
CREATED:20251114T024015Z
LAST-MODIFIED:20260329T145201Z
UID:7239-1775757600-1775764800@lepto.org
SUMMARY:Talent Show
DESCRIPTION:
URL:https://lepto.org/event/talent-show
END:VEVENT
BEGIN:VEVENT
DTSTART;VALUE=DATE:20260403
DTEND;VALUE=DATE:20260404
DTSTAMP:20260423T164354
CREATED:20250916T023724Z
LAST-MODIFIED:20250916T023724Z
UID:6672-1775174400-1775260799@lepto.org
SUMMARY:NO SCHOOL (Good Friday)
DESCRIPTION:
URL:https://lepto.org/event/no-school-good-friday-2
END:VEVENT
BEGIN:VEVENT
DTSTART;TZID=America/New_York:20260331T170000
DTEND;TZID=America/New_York:20260331T183000
DTSTAMP:20260423T164354
CREATED:20260329T141843Z
LAST-MODIFIED:20260329T141843Z
UID:8242-1774976400-1774981800@lepto.org
SUMMARY:Science Fair
DESCRIPTION:
URL:https://lepto.org/event/science-fair
END:VEVENT
BEGIN:VEVENT
DTSTART;VALUE=DATE:20260319
DTEND;VALUE=DATE:20260320
DTSTAMP:20260423T164354
CREATED:20250916T023646Z
LAST-MODIFIED:20250916T023646Z
UID:6670-1773878400-1773964799@lepto.org
SUMMARY:Early Release (12:10pm)
DESCRIPTION:
URL:https://lepto.org/event/early-release-1210pm-4
END:VEVENT
BEGIN:VEVENT
DTSTART;VALUE=DATE:20260216
DTEND;VALUE=DATE:20260221
DTSTAMP:20260423T164354
CREATED:20250916T023559Z
LAST-MODIFIED:20250916T023559Z
UID:6668-1771200000-1771631999@lepto.org
SUMMARY:Winter Recess
DESCRIPTION:
URL:https://lepto.org/event/winter-recess
END:VEVENT
BEGIN:VEVENT
DTSTART;VALUE=DATE:20260205
DTEND;VALUE=DATE:20260206
DTSTAMP:20260423T164354
CREATED:20250916T023344Z
LAST-MODIFIED:20250916T023344Z
UID:6664-1770249600-1770335999@lepto.org
SUMMARY:Early Release (12:10pm)
DESCRIPTION:
URL:https://lepto.org/event/early-release-1210pm-3
END:VEVENT
BEGIN:VEVENT
DTSTART;VALUE=DATE:20260204
DTEND;VALUE=DATE:20260205
DTSTAMP:20260423T164354
CREATED:20251114T023925Z
LAST-MODIFIED:20251114T023925Z
UID:7237-1770163200-1770249599@lepto.org
SUMMARY:4th and 5th grade concert (snow date)
DESCRIPTION:
URL:https://lepto.org/event/4th-and-5th-grade-concert-snow-date
END:VEVENT
BEGIN:VEVENT
DTSTART;VALUE=DATE:20260128
DTEND;VALUE=DATE:20260129
DTSTAMP:20260423T164354
CREATED:20251114T023846Z
LAST-MODIFIED:20251114T023846Z
UID:7235-1769558400-1769644799@lepto.org
SUMMARY:4th and 5th grade concert
DESCRIPTION:
URL:https://lepto.org/event/4th-and-5th-grade-concert
END:VEVENT
BEGIN:VEVENT
DTSTART;VALUE=DATE:20260119
DTEND;VALUE=DATE:20260120
DTSTAMP:20260423T164354
CREATED:20250916T023257Z
LAST-MODIFIED:20250916T023257Z
UID:6662-1768780800-1768867199@lepto.org
SUMMARY:Martin Luther King Day
DESCRIPTION:
URL:https://lepto.org/event/martin-luther-king-day
END:VEVENT
BEGIN:VEVENT
DTSTART;VALUE=DATE:20251224
DTEND;VALUE=DATE:20260103
DTSTAMP:20260423T164354
CREATED:20250916T023221Z
LAST-MODIFIED:20250916T023221Z
UID:6660-1766534400-1767398399@lepto.org
SUMMARY:December Recess/New Year’s Day
DESCRIPTION:
URL:https://lepto.org/event/december-recess-new-years-day
END:VEVENT
BEGIN:VEVENT
DTSTART;TZID=America/New_York:20251204T170000
DTEND;TZID=America/New_York:20251204T190000
DTSTAMP:20260423T164354
CREATED:20251114T023642Z
LAST-MODIFIED:20251114T023642Z
UID:7233-1764867600-1764874800@lepto.org
SUMMARY:Book Fair Family Event
DESCRIPTION:
URL:https://lepto.org/event/book-fair-family-event
LOCATION:@ Lincoln-Eliot
END:VEVENT
BEGIN:VEVENT
DTSTART;VALUE=DATE:20251204
DTEND;VALUE=DATE:20251205
DTSTAMP:20260423T164354
CREATED:20250916T023102Z
LAST-MODIFIED:20250916T023102Z
UID:6658-1764806400-1764892799@lepto.org
SUMMARY:Early Release (12:10pm)
DESCRIPTION:
URL:https://lepto.org/event/early-release-1210pm-2
END:VEVENT
BEGIN:VEVENT
DTSTART;VALUE=DATE:20251202
DTEND;VALUE=DATE:20251205
DTSTAMP:20260423T164354
CREATED:20251114T023600Z
LAST-MODIFIED:20251114T023600Z
UID:7231-1764633600-1764892799@lepto.org
SUMMARY:Scholastic Book Fair
DESCRIPTION:
URL:https://lepto.org/event/scholastic-book-fair
END:VEVENT
BEGIN:VEVENT
DTSTART;VALUE=DATE:20251127
DTEND;VALUE=DATE:20251129
DTSTAMP:20260423T164354
CREATED:20250916T023011Z
LAST-MODIFIED:20250916T023011Z
UID:6656-1764201600-1764374399@lepto.org
SUMMARY:Thanksgiving Recess
DESCRIPTION:
URL:https://lepto.org/event/thanksgiving-recess
END:VEVENT
BEGIN:VEVENT
DTSTART;VALUE=DATE:20251111
DTEND;VALUE=DATE:20251112
DTSTAMP:20260423T164354
CREATED:20251007T131645Z
LAST-MODIFIED:20251007T131645Z
UID:6905-1762819200-1762905599@lepto.org
SUMMARY:NO SCHOOL (Veterans Day)
DESCRIPTION:
URL:https://lepto.org/event/no-school-veterans-day-3
END:VEVENT
BEGIN:VEVENT
DTSTART;VALUE=DATE:20251104
DTEND;VALUE=DATE:20251105
DTSTAMP:20260423T164354
CREATED:20250916T022718Z
LAST-MODIFIED:20250916T022718Z
UID:6650-1762214400-1762300799@lepto.org
SUMMARY:NO SCHOOL (Election Day)
DESCRIPTION:
URL:https://lepto.org/event/no-school-election-day
END:VEVENT
BEGIN:VEVENT
DTSTART;VALUE=DATE:20251028
DTEND;VALUE=DATE:20251029
DTSTAMP:20260423T164354
CREATED:20250916T012852Z
LAST-MODIFIED:20250916T012852Z
UID:6644-1761609600-1761695999@lepto.org
SUMMARY:Early Release (12:10pm)
DESCRIPTION:
URL:https://lepto.org/event/early-release-1210pm
END:VEVENT
BEGIN:VEVENT
DTSTART;VALUE=DATE:20251028
DTEND;VALUE=DATE:20251108
DTSTAMP:20260423T164354
CREATED:20250916T012820Z
LAST-MODIFIED:20250916T012820Z
UID:6642-1761609600-1762559999@lepto.org
SUMMARY:Family/Teacher Fall Conferences
DESCRIPTION:
URL:https://lepto.org/event/family-teacher-fall-conferences
END:VEVENT
BEGIN:VEVENT
DTSTART;VALUE=DATE:20251018
DTEND;VALUE=DATE:20251019
DTSTAMP:20260423T164354
CREATED:20250916T022900Z
LAST-MODIFIED:20250916T024917Z
UID:6654-1760745600-1760831999@lepto.org
SUMMARY:Ribbon Cutting and Fall Festival
DESCRIPTION:
URL:https://lepto.org/event/ribbon-cutting-and-fall-festival
CATEGORIES:PTO Organized
END:VEVENT
BEGIN:VEVENT
DTSTART;VALUE=DATE:20251013
DTEND;VALUE=DATE:20251014
DTSTAMP:20260423T164354
CREATED:20250916T012920Z
LAST-MODIFIED:20250916T012920Z
UID:6646-1760313600-1760399999@lepto.org
SUMMARY:NO SCHOOL (Indigenous People’s Day)
DESCRIPTION:
URL:https://lepto.org/event/no-school-indigenous-peoples-day
END:VEVENT
BEGIN:VEVENT
DTSTART;VALUE=DATE:20251002
DTEND;VALUE=DATE:20251003
DTSTAMP:20260423T164354
CREATED:20250916T012731Z
LAST-MODIFIED:20250916T012731Z
UID:6640-1759363200-1759449599@lepto.org
SUMMARY:NO SCHOOL (Yom Kippur)
DESCRIPTION:
URL:https://lepto.org/event/no-school-yom-kippur
END:VEVENT
BEGIN:VEVENT
DTSTART;TZID=America/New_York:20250930T170000
DTEND;TZID=America/New_York:20250930T183000
DTSTAMP:20260423T164354
CREATED:20250914T023348Z
LAST-MODIFIED:20250924T171242Z
UID:6611-1759251600-1759257000@lepto.org
SUMMARY:NEW DATE: Back-to-School Picnic
DESCRIPTION:Giant play date in front of the new Lincoln-Eliot!
URL:https://lepto.org/event/back-to-school-picnic
CATEGORIES:PTO Organized
END:VEVENT
BEGIN:VEVENT
DTSTART;VALUE=DATE:20250925
DTEND;VALUE=DATE:20250926
DTSTAMP:20260423T164354
CREATED:20250916T012449Z
LAST-MODIFIED:20250916T023459Z
UID:6636-1758758400-1758844799@lepto.org
SUMMARY:Early Release (12:10pm)
DESCRIPTION:
URL:https://lepto.org/event/early-dismissal
END:VEVENT
BEGIN:VEVENT
DTSTART;VALUE=DATE:20250923
DTEND;VALUE=DATE:20250924
DTSTAMP:20260423T164354
CREATED:20250916T012221Z
LAST-MODIFIED:20250916T012617Z
UID:6632-1758585600-1758671999@lepto.org
SUMMARY:NO SCHOOL (Rosh Hashanah)
DESCRIPTION:
URL:https://lepto.org/event/rosh-hashanah-no-school
END:VEVENT
BEGIN:VEVENT
DTSTART;VALUE=DATE:20250919
DTEND;VALUE=DATE:20250920
DTSTAMP:20260423T164354
CREATED:20250916T012324Z
LAST-MODIFIED:20250916T012324Z
UID:6634-1758240000-1758326399@lepto.org
SUMMARY:L-E Picture Day
DESCRIPTION:
URL:https://lepto.org/event/l-e-picture-day
END:VEVENT
END:VCALENDAR