BEGIN:VCALENDAR
VERSION:2.0
PRODID:-//Lincoln-Eliot PTO - ECPv6.15.20//NONSGML v1.0//EN
CALSCALE:GREGORIAN
METHOD:PUBLISH
X-WR-CALNAME:Lincoln-Eliot PTO
X-ORIGINAL-URL:https://lepto.org
X-WR-CALDESC:Events for Lincoln-Eliot PTO
REFRESH-INTERVAL;VALUE=DURATION:PT1H
X-Robots-Tag:noindex
X-PUBLISHED-TTL:PT1H
BEGIN:VTIMEZONE
TZID:America/New_York
BEGIN:DAYLIGHT
TZOFFSETFROM:-0500
TZOFFSETTO:-0400
TZNAME:EDT
DTSTART:20140309T070000
END:DAYLIGHT
BEGIN:STANDARD
TZOFFSETFROM:-0400
TZOFFSETTO:-0500
TZNAME:EST
DTSTART:20141102T060000
END:STANDARD
BEGIN:DAYLIGHT
TZOFFSETFROM:-0500
TZOFFSETTO:-0400
TZNAME:EDT
DTSTART:20150308T070000
END:DAYLIGHT
BEGIN:STANDARD
TZOFFSETFROM:-0400
TZOFFSETTO:-0500
TZNAME:EST
DTSTART:20151101T060000
END:STANDARD
BEGIN:DAYLIGHT
TZOFFSETFROM:-0500
TZOFFSETTO:-0400
TZNAME:EDT
DTSTART:20160313T070000
END:DAYLIGHT
BEGIN:STANDARD
TZOFFSETFROM:-0400
TZOFFSETTO:-0500
TZNAME:EST
DTSTART:20161106T060000
END:STANDARD
END:VTIMEZONE
BEGIN:VEVENT
DTSTART;VALUE=DATE:20151105
DTEND;VALUE=DATE:20151106
DTSTAMP:20260424T120838
CREATED:20151007T202048Z
LAST-MODIFIED:20151007T202048Z
UID:1211-1446681600-1446767999@lepto.org
SUMMARY:12:30 Dismissal - Teacher Professional Development Day
DESCRIPTION:
URL:https://lepto.org/event/1230-dismissal-teacher-professional-development-day
END:VEVENT
BEGIN:VEVENT
DTSTART;VALUE=DATE:20151103
DTEND;VALUE=DATE:20151104
DTSTAMP:20260424T120838
CREATED:20151007T202003Z
LAST-MODIFIED:20151007T202003Z
UID:1210-1446508800-1446595199@lepto.org
SUMMARY:Election Day\, Municipal Election
DESCRIPTION:
URL:https://lepto.org/event/election-day-municipal-election
END:VEVENT
BEGIN:VEVENT
DTSTART;TZID=America/New_York:20151030T180000
DTEND;TZID=America/New_York:20151030T200000
DTSTAMP:20260424T120838
CREATED:20151007T201921Z
LAST-MODIFIED:20151007T201921Z
UID:1209-1446228000-1446235200@lepto.org
SUMMARY:Halloween Dance
DESCRIPTION:
URL:https://lepto.org/event/halloween-dance-2
END:VEVENT
BEGIN:VEVENT
DTSTART;VALUE=DATE:20151022
DTEND;VALUE=DATE:20151023
DTSTAMP:20260424T120838
CREATED:20151007T201844Z
LAST-MODIFIED:20151007T201844Z
UID:1208-1445472000-1445558399@lepto.org
SUMMARY:Grade 4 Field Trip - Lowell Mills
DESCRIPTION:
URL:https://lepto.org/event/grade-4-field-trip-lowell-mills
END:VEVENT
BEGIN:VEVENT
DTSTART;VALUE=DATE:20151021
DTEND;VALUE=DATE:20151022
DTSTAMP:20260424T120838
CREATED:20151007T201811Z
LAST-MODIFIED:20151007T201811Z
UID:1207-1445385600-1445471999@lepto.org
SUMMARY:Grade 3 Field Trip\, Arnold Arboretum
DESCRIPTION:
URL:https://lepto.org/event/grade-3-field-trip-arnold-arboretum
END:VEVENT
BEGIN:VEVENT
DTSTART;VALUE=DATE:20151012
DTEND;VALUE=DATE:20151013
DTSTAMP:20260424T120838
CREATED:20150908T145711Z
LAST-MODIFIED:20150908T145711Z
UID:1185-1444608000-1444694399@lepto.org
SUMMARY:No School - Columbus Day
DESCRIPTION:
URL:https://lepto.org/event/no-school-columbus-day
END:VEVENT
BEGIN:VEVENT
DTSTART;VALUE=DATE:20151008
DTEND;VALUE=DATE:20151009
DTSTAMP:20260424T120838
CREATED:20150908T145625Z
LAST-MODIFIED:20150908T145625Z
UID:1184-1444262400-1444348799@lepto.org
SUMMARY:12:30 Dismissal - Teacher Professional Development
DESCRIPTION:
URL:https://lepto.org/event/1230-dismissal-teacher-professional-development
END:VEVENT
BEGIN:VEVENT
DTSTART;VALUE=DATE:20151007
DTEND;VALUE=DATE:20151008
DTSTAMP:20260424T120838
CREATED:20150908T145536Z
LAST-MODIFIED:20150908T145536Z
UID:1183-1444176000-1444262399@lepto.org
SUMMARY:International Walk to School Day
DESCRIPTION:
URL:https://lepto.org/event/international-walk-to-school-day
END:VEVENT
BEGIN:VEVENT
DTSTART;VALUE=DATE:20151007
DTEND;VALUE=DATE:20151008
DTSTAMP:20260424T120838
CREATED:20150908T145457Z
LAST-MODIFIED:20150908T145457Z
UID:1182-1444176000-1444262399@lepto.org
SUMMARY:PTO Program Grade 3 - The Tree Guy
DESCRIPTION:
URL:https://lepto.org/event/pto-program-grade-3-the-tree-guy
END:VEVENT
BEGIN:VEVENT
DTSTART;VALUE=DATE:20151005
DTEND;VALUE=DATE:20151006
DTSTAMP:20260424T120838
CREATED:20150831T141051Z
LAST-MODIFIED:20150831T141051Z
UID:1176-1444003200-1444089599@lepto.org
SUMMARY:Full Day Kindergarten Group A Begins (Mon. & Wed.)
DESCRIPTION:
URL:https://lepto.org/event/full-day-kindergarten-group-a-begins-mon-wed
END:VEVENT
BEGIN:VEVENT
DTSTART;VALUE=DATE:20151001
DTEND;VALUE=DATE:20151002
DTSTAMP:20260424T120838
CREATED:20150831T141027Z
LAST-MODIFIED:20150831T141027Z
UID:1175-1443657600-1443743999@lepto.org
SUMMARY:Full Day Kindergarten Group B Begins (Thurs. & Fri)
DESCRIPTION:
URL:https://lepto.org/event/full-day-kindergarten-group-b-begins-thurs-fri
END:VEVENT
BEGIN:VEVENT
DTSTART;VALUE=DATE:20150930
DTEND;VALUE=DATE:20151001
DTSTAMP:20260424T120838
CREATED:20150831T140846Z
LAST-MODIFIED:20150831T140846Z
UID:1174-1443571200-1443657599@lepto.org
SUMMARY:School Picture Day
DESCRIPTION:
URL:https://lepto.org/event/school-picture-day
END:VEVENT
BEGIN:VEVENT
DTSTART;TZID=America/New_York:20150924T180000
DTEND;TZID=America/New_York:20150924T193000
DTSTAMP:20260424T120838
CREATED:20150831T140752Z
LAST-MODIFIED:20150902T005258Z
UID:1173-1443117600-1443123000@lepto.org
SUMMARY:Curriculum Night/Open House
DESCRIPTION:
URL:https://lepto.org/event/curriculum-nightopen-house-2
END:VEVENT
BEGIN:VEVENT
DTSTART;VALUE=DATE:20150923
DTEND;VALUE=DATE:20150924
DTSTAMP:20260424T120838
CREATED:20150831T140725Z
LAST-MODIFIED:20150831T140725Z
UID:1172-1442966400-1443052799@lepto.org
SUMMARY:Yom Kippor - No School
DESCRIPTION:
URL:https://lepto.org/event/yom-kippor-no-school
END:VEVENT
BEGIN:VEVENT
DTSTART;TZID=America/New_York:20150922T131500
DTEND;TZID=America/New_York:20150922T171500
DTSTAMP:20260424T120838
CREATED:20150915T191210Z
LAST-MODIFIED:20150915T191210Z
UID:1195-1442927700-1442942100@lepto.org
SUMMARY:Ploughshares Field Trip to Honeypot Hill
DESCRIPTION:On Tuesday\, September 22nd\, the Plowshares Program will be going on their first field trip to Honey Pot Hill Orchards in Stow.  We are going apple picking! \nOur visit will include a hay ride to the orchard where each child from Plowshares will pick their own bag of apples to bring home\, a snack of cider donuts and apple cider\, a visit to the petting zoo\, and a corn maze walk.  We will be leaving at 1:15 and returning by 5:15.  All 3:00 children are welcome to join us.  The cost is $19 per child. \nPermission slips will be available at pick up this week and I have attached the form to this email. \nPlease let me know if you have any questions. \nAngela Marra\nangelamarra@plowshareschildcare.org
URL:https://lepto.org/event/ploughshares-field-trip-to-honeypot-hill
END:VEVENT
BEGIN:VEVENT
DTSTART;VALUE=DATE:20150917
DTEND;VALUE=DATE:20150918
DTSTAMP:20260424T120838
CREATED:20150831T140700Z
LAST-MODIFIED:20150831T140700Z
UID:1171-1442448000-1442534399@lepto.org
SUMMARY:Election Day- City Preliminary Election (Gym)
DESCRIPTION:
URL:https://lepto.org/event/election-day-city-preliminary-election-gym
END:VEVENT
BEGIN:VEVENT
DTSTART;VALUE=DATE:20150914
DTEND;VALUE=DATE:20150915
DTSTAMP:20260424T120838
CREATED:20150831T140641Z
LAST-MODIFIED:20150831T140641Z
UID:1170-1442188800-1442275199@lepto.org
SUMMARY:Rosh Hashana - No School
DESCRIPTION:
URL:https://lepto.org/event/rosh-hashana-no-school
END:VEVENT
BEGIN:VEVENT
DTSTART;VALUE=DATE:20150910
DTEND;VALUE=DATE:20150911
DTSTAMP:20260424T120838
CREATED:20150831T140328Z
LAST-MODIFIED:20150831T140328Z
UID:1167-1441843200-1441929599@lepto.org
SUMMARY:BOTH Group A & B Kindergarten (12:30 Dismissal throughout September)
DESCRIPTION:
URL:https://lepto.org/event/both-group-a-b-kindergarten-1230-dismissal-throughout-september
END:VEVENT
BEGIN:VEVENT
DTSTART;VALUE=DATE:20150909
DTEND;VALUE=DATE:20150910
DTSTAMP:20260424T120838
CREATED:20150831T140253Z
LAST-MODIFIED:20150831T140253Z
UID:1166-1441756800-1441843199@lepto.org
SUMMARY:First Day of School Kindergarten Group B ONLY
DESCRIPTION:
URL:https://lepto.org/event/first-day-of-school-kindergarten-group-b-only
END:VEVENT
BEGIN:VEVENT
DTSTART;VALUE=DATE:20150908
DTEND;VALUE=DATE:20150909
DTSTAMP:20260424T120838
CREATED:20150831T140131Z
LAST-MODIFIED:20150831T140131Z
UID:1165-1441670400-1441756799@lepto.org
SUMMARY:12:30 Dismissal\, 1st Day of School Students\, First Day Kindergarten Group A
DESCRIPTION:
URL:https://lepto.org/event/1230-dismissal-1st-day-of-school-students-first-day-kindergarten-group-a
END:VEVENT
BEGIN:VEVENT
DTSTART;VALUE=DATE:20150907
DTEND;VALUE=DATE:20150908
DTSTAMP:20260424T120838
CREATED:20150831T140006Z
LAST-MODIFIED:20150831T140006Z
UID:1164-1441584000-1441670399@lepto.org
SUMMARY:No School
DESCRIPTION:
URL:https://lepto.org/event/no-school-2
END:VEVENT
BEGIN:VEVENT
DTSTART;VALUE=DATE:20150904
DTEND;VALUE=DATE:20150905
DTSTAMP:20260424T120838
CREATED:20150831T135939Z
LAST-MODIFIED:20150831T135939Z
UID:1163-1441324800-1441411199@lepto.org
SUMMARY:No School
DESCRIPTION:
URL:https://lepto.org/event/no-school
END:VEVENT
BEGIN:VEVENT
DTSTART;TZID=America/New_York:20150903T090000
DTEND;TZID=America/New_York:20150903T110000
DTSTAMP:20260424T120838
CREATED:20150831T135913Z
LAST-MODIFIED:20150831T135913Z
UID:1162-1441270800-1441278000@lepto.org
SUMMARY:Kindergarten Classroom Visits and Playground Playdate
DESCRIPTION:9-10 Class Visits\n10-11 Playground Playdate
URL:https://lepto.org/event/kindergarten-classroom-visits-and-playground-playdate
END:VEVENT
BEGIN:VEVENT
DTSTART;VALUE=DATE:20150902
DTEND;VALUE=DATE:20150903
DTSTAMP:20260424T120838
CREATED:20150831T135749Z
LAST-MODIFIED:20150831T135749Z
UID:1161-1441152000-1441238399@lepto.org
SUMMARY:1st Day of School for Teachers
DESCRIPTION:
URL:https://lepto.org/event/1st-day-of-school-for-teachers
END:VEVENT
BEGIN:VEVENT
DTSTART;TZID=America/New_York:20150831T183000
DTEND;TZID=America/New_York:20150831T193000
DTSTAMP:20260424T120838
CREATED:20150831T142020Z
LAST-MODIFIED:20150831T142020Z
UID:1179-1441045800-1441049400@lepto.org
SUMMARY:5th Grade fundraising efforts
DESCRIPTION:Please join us at the L-E playground on Wednesday\, September 2nd from 6:30-7:30pm for an informal conversation about the direction we’d like to take our 5th Grade fundraising efforts during the 2015-16 school year.  We want to hear all of your ideas\, questions and concerns.  Feel free to bring your kids (they can play in the park while we chat)! Questions? Contact Andrea Hemment at ahemment@gmail.com.
URL:https://lepto.org/event/5th-grade-fundraising-efforts
LOCATION:L-E playground
END:VEVENT
BEGIN:VEVENT
DTSTART;TZID=America/New_York:20150831T173000
DTEND;TZID=America/New_York:20150831T190000
DTSTAMP:20260424T120838
CREATED:20150831T140408Z
LAST-MODIFIED:20150831T140601Z
UID:1168-1441042200-1441047600@lepto.org
SUMMARY:PTO Back-to-School Picnic
DESCRIPTION:Rain Date is Thursday\, September 10th\, same time.
URL:https://lepto.org/event/pto-back-to-school-picnic-2
END:VEVENT
BEGIN:VEVENT
DTSTART;VALUE=DATE:20150629
DTEND;VALUE=DATE:20150630
DTSTAMP:20260424T120838
CREATED:20150603T205604Z
LAST-MODIFIED:20150603T205604Z
UID:1139-1435536000-1435622399@lepto.org
SUMMARY:The Plowshares School Age Summer Program will begin at Newton North.
DESCRIPTION:
URL:https://lepto.org/event/the-plowshares-school-age-summer-program-will-begin-at-newton-north
END:VEVENT
BEGIN:VEVENT
DTSTART;VALUE=DATE:20150625
DTEND;VALUE=DATE:20150627
DTSTAMP:20260424T120838
CREATED:20150603T205538Z
LAST-MODIFIED:20150603T205538Z
UID:1138-1435190400-1435363199@lepto.org
SUMMARY:Plowshares Clean Up
DESCRIPTION:Plowshares is closed for clean up and the move to Newton North for the summer.
URL:https://lepto.org/event/plowshares-clean-up
END:VEVENT
BEGIN:VEVENT
DTSTART;TZID=America/New_York:20150624T103000
DTEND;TZID=America/New_York:20150624T111500
DTSTAMP:20260424T120838
CREATED:20150512T193607Z
LAST-MODIFIED:20150512T193607Z
UID:1111-1435141800-1435144500@lepto.org
SUMMARY:Gr. 5 Graduation
DESCRIPTION:
URL:https://lepto.org/event/gr-5-graduation
END:VEVENT
BEGIN:VEVENT
DTSTART;VALUE=DATE:20150624
DTEND;VALUE=DATE:20150625
DTSTAMP:20260424T120838
CREATED:20150603T205443Z
LAST-MODIFIED:20150603T205443Z
UID:1137-1435104000-1435190399@lepto.org
SUMMARY:Last day of the Plowshares Program
DESCRIPTION:Children will be released from school at 12:00 noon. There is not school lunch available on this day! Plowshares will be CLOSING AT 3:00PM on this day.
URL:https://lepto.org/event/last-day-of-the-plowshares-program
END:VEVENT
END:VCALENDAR