BEGIN:VCALENDAR
VERSION:2.0
PRODID:-//Lincoln-Eliot PTO - ECPv6.15.20//NONSGML v1.0//EN
CALSCALE:GREGORIAN
METHOD:PUBLISH
X-WR-CALNAME:Lincoln-Eliot PTO
X-ORIGINAL-URL:https://lepto.org
X-WR-CALDESC:Events for Lincoln-Eliot PTO
REFRESH-INTERVAL;VALUE=DURATION:PT1H
X-Robots-Tag:noindex
X-PUBLISHED-TTL:PT1H
BEGIN:VTIMEZONE
TZID:America/New_York
BEGIN:DAYLIGHT
TZOFFSETFROM:-0500
TZOFFSETTO:-0400
TZNAME:EDT
DTSTART:20130310T070000
END:DAYLIGHT
BEGIN:STANDARD
TZOFFSETFROM:-0400
TZOFFSETTO:-0500
TZNAME:EST
DTSTART:20131103T060000
END:STANDARD
BEGIN:DAYLIGHT
TZOFFSETFROM:-0500
TZOFFSETTO:-0400
TZNAME:EDT
DTSTART:20140309T070000
END:DAYLIGHT
BEGIN:STANDARD
TZOFFSETFROM:-0400
TZOFFSETTO:-0500
TZNAME:EST
DTSTART:20141102T060000
END:STANDARD
BEGIN:DAYLIGHT
TZOFFSETFROM:-0500
TZOFFSETTO:-0400
TZNAME:EDT
DTSTART:20150308T070000
END:DAYLIGHT
BEGIN:STANDARD
TZOFFSETFROM:-0400
TZOFFSETTO:-0500
TZNAME:EST
DTSTART:20151101T060000
END:STANDARD
BEGIN:DAYLIGHT
TZOFFSETFROM:-0500
TZOFFSETTO:-0400
TZNAME:EDT
DTSTART:20160313T070000
END:DAYLIGHT
BEGIN:STANDARD
TZOFFSETFROM:-0400
TZOFFSETTO:-0500
TZNAME:EST
DTSTART:20161106T060000
END:STANDARD
END:VTIMEZONE
BEGIN:VEVENT
DTSTART;VALUE=DATE:20150126
DTEND;VALUE=DATE:20150127
DTSTAMP:20260425T071458
CREATED:20141215T154036Z
LAST-MODIFIED:20141215T154036Z
UID:846-1422230400-1422316799@lepto.org
SUMMARY:Gr. 4 & 5 Potato Hill Poetry- Session 2
DESCRIPTION:
URL:https://lepto.org/event/gr-4-5-potato-hill-poetry-session-2
END:VEVENT
BEGIN:VEVENT
DTSTART;TZID=America/New_York:20150122T070000
DTEND;TZID=America/New_York:20150122T200000
DTSTAMP:20260425T071458
CREATED:20150112T172618Z
LAST-MODIFIED:20150121T193014Z
UID:883-1421910000-1421956800@lepto.org
SUMMARY:Grade 5 Winter Concert- All Families Invited!
DESCRIPTION:All families are invited!\nThe Gr. 5 Winter Concert. The 5th Grade Band\, 5th Grade Chorus and Lincoln-Eliot String\nEnsemble are eager to share the results of their hard work this fall. \n\nInstrumental (Band and String Ensemble students) please arrive by 6:30.\nAll other 5th graders should arrive no later than 6:50 PM. Student attendance is\nrequired. If you have an unavoidable conflict\, please email Ms. Nelson\n(devon_nelson@newton.k12.ma.us) as soon as possible.\nThe dress code for student performers is black on the bottom and white on the top.\nLooking forward to seeing you there!
URL:https://lepto.org/event/grade-5-winter-concert-all-families-invited
LOCATION:@ Lincoln-Eliot
END:VEVENT
BEGIN:VEVENT
DTSTART;VALUE=DATE:20150119
DTEND;VALUE=DATE:20150120
DTSTAMP:20260425T071458
CREATED:20141208T164205Z
LAST-MODIFIED:20141208T164205Z
UID:833-1421625600-1421711999@lepto.org
SUMMARY:No School: Martin Luther King Holiday
DESCRIPTION:
URL:https://lepto.org/event/no-school-martin-luther-king-holiday
END:VEVENT
BEGIN:VEVENT
DTSTART;VALUE=DATE:20150113
DTEND;VALUE=DATE:20150211
DTSTAMP:20260425T071458
CREATED:20141210T184440Z
LAST-MODIFIED:20141210T184440Z
UID:840-1421107200-1423612799@lepto.org
SUMMARY:Ice Skating for Plowshares Families
DESCRIPTION:Starting on Tuesday\, January 13th until Tuesday\, Feb 10\, Plowshares children from both Lincoln Eliot and Franklin will have the opportunity to participate in ice skating at the Daly Ice Rink on Nonantum Road. \nIce Skating is being offered to all Plowshares Children (Kindergarten through 5th grade)  who already are able to skate on their own.  Beginners are welcome as long as they can make it around he rink by themselves.  We do not have the staff that would be needed to teach lessons.  Children will need to have a helmet to participate. Skates can be rented if needed. \nAs soon as a more details are available (cost\, time\, etc) we will post more.
URL:https://lepto.org/event/ice-skating-for-plowshares-families
LOCATION:Daly Ice Rink\, Nonantum Road
END:VEVENT
BEGIN:VEVENT
DTSTART;TZID=America/New_York:20150112T082000
DTEND;TZID=America/New_York:20150112T091500
DTSTAMP:20260425T071458
CREATED:20141201T151350Z
LAST-MODIFIED:20141228T144111Z
UID:806-1421050800-1421054100@lepto.org
SUMMARY:3rd PTO Meeting- General Meeting & PARCC Spring Assessment Update
DESCRIPTION:General Meeting & PARCC Spring Assessment Update
URL:https://lepto.org/event/3rd-pto-meeting-guest-supt-david-fleishman
LOCATION:Music Room
END:VEVENT
BEGIN:VEVENT
DTSTART;VALUE=DATE:20150109
DTEND;VALUE=DATE:20150110
DTSTAMP:20260425T071458
CREATED:20141201T151243Z
LAST-MODIFIED:20141201T151243Z
UID:805-1420761600-1420847999@lepto.org
SUMMARY:PTO Program: Gr. 2 Potato Hill Poetry
DESCRIPTION:
URL:https://lepto.org/event/pto-program-gr-2-potato-hill-poetry
END:VEVENT
BEGIN:VEVENT
DTSTART;VALUE=DATE:20150108
DTEND;VALUE=DATE:20150109
DTSTAMP:20260425T071458
CREATED:20141201T151043Z
LAST-MODIFIED:20141201T151043Z
UID:803-1420675200-1420761599@lepto.org
SUMMARY:Gr. 4 Field Trip\, Jackson Homestead
DESCRIPTION:
URL:https://lepto.org/event/gr-4-field-trip-jackson-homestead
END:VEVENT
BEGIN:VEVENT
DTSTART;VALUE=DATE:20150105
DTEND;VALUE=DATE:20150106
DTSTAMP:20260425T071458
CREATED:20141208T164128Z
LAST-MODIFIED:20141208T164128Z
UID:832-1420416000-1420502399@lepto.org
SUMMARY:Classes Resume from Holiday Break
DESCRIPTION:
URL:https://lepto.org/event/classes-resume-from-holiday-break
END:VEVENT
BEGIN:VEVENT
DTSTART;VALUE=DATE:20150105
DTEND;VALUE=DATE:20150106
DTSTAMP:20260425T071458
CREATED:20141201T150939Z
LAST-MODIFIED:20141201T150939Z
UID:802-1420416000-1420502399@lepto.org
SUMMARY:PTO Program: Gr. 4 & 5 Potato Hill Poetry
DESCRIPTION:
URL:https://lepto.org/event/pto-program-gr-4-5-potato-hill-poetry
END:VEVENT
BEGIN:VEVENT
DTSTART;TZID=America/New_York:20141229T083000
DTEND;TZID=America/New_York:20150101T143000
DTSTAMP:20260425T071458
CREATED:20141120T194016Z
LAST-MODIFIED:20141120T194016Z
UID:793-1419841800-1420122600@lepto.org
SUMMARY:BC Lady Eagles Soccer School
DESCRIPTION:The players are grouped by age and ability and the program is catered to both the beginner and elite club level player. Ages range from 6-14 years old. Our goal is the challenge each camper to leave our clinics with an increased enthusiasm for the game and ideas to further develop them as individual players. Find more information on our websitewww.bcwomenssoccer.com \nor email us at soccercl@bc.edu with questions!  Cost: $295 (3 day option [29th-31st] $225)
URL:https://lepto.org/event/bc-lady-eagles-soccer-school
LOCATION:Alumni Stadium Bubble at Boston College
END:VEVENT
BEGIN:VEVENT
DTSTART;VALUE=DATE:20141224
DTEND;VALUE=DATE:20150103
DTSTAMP:20260425T071458
CREATED:20141031T181431Z
LAST-MODIFIED:20141031T181431Z
UID:727-1419379200-1420243199@lepto.org
SUMMARY:School Closed - Holiday Break
DESCRIPTION:
URL:https://lepto.org/event/school-closed-holiday-break
END:VEVENT
BEGIN:VEVENT
DTSTART;TZID=America/New_York:20141217T153000
DTEND;TZID=America/New_York:20141217T173000
DTSTAMP:20260425T071458
CREATED:20141215T153155Z
LAST-MODIFIED:20141215T153214Z
UID:844-1418830200-1418837400@lepto.org
SUMMARY:Flu Clinic
DESCRIPTION:There will be a family flu clinic held next Wednesday\, Dec. 17th from 3:30 to 5:30 PM in the Lincoln-Eliot Gym. This is a Family Flu Clinic and open to all Newton residents and city of Newton employees and their families. Consent forms are available on site or at www.newtonma.gov/flu. This is a drop-in clinic\, no need to register in advance.
URL:https://lepto.org/event/flu-clinic
LOCATION:Lincoln Eliot Gym\, 191 Pearl Street\, Newton\, MA\, 02458\, United States
END:VEVENT
BEGIN:VEVENT
DTSTART;VALUE=DATE:20141214
DTEND;VALUE=DATE:20141215
DTSTAMP:20260425T071458
CREATED:20141020T145724Z
LAST-MODIFIED:20141020T145724Z
UID:686-1418515200-1418601599@lepto.org
SUMMARY:Meadow Farms Fundraising Deadline
DESCRIPTION:You can still place online orders until Monday\, Dec. 14\, 2014. Choose the “Ship to Home” option and enter the school code: 5600029. Remember that up to 50% of your purchase is given back to LE!
URL:https://lepto.org/event/meadow-farms-fundraising-deadline
END:VEVENT
BEGIN:VEVENT
DTSTART;TZID=America/New_York:20141211T190000
DTEND;TZID=America/New_York:20141211T210000
DTSTAMP:20260425T071458
CREATED:20141202T202854Z
LAST-MODIFIED:20141202T202854Z
UID:827-1418324400-1418331600@lepto.org
SUMMARY:Newton Community Preservation Committee
DESCRIPTION:11 December 2014 CPC Agenda\n7 pm\, Thursday\, 11 December 2014\, City Hall Room 209 \nThe full agenda is online under Committees & Meetings on the program website\, www.newtonma.gov/cpa. The agenda includes: \nNewton Highlands Playground ($200\,000\, already funded)\, change in funding conditions requested by Parks & Recreation Dept. \n Public Hearing on Waban Hill Reservoir Proposal\,\n(Chestnut Hill\, $1\,073\,446 requested) \nThe proposal is online from Proposals & Projects on the program website\, www.newtonma.gov/cpa. The direct address of the proposal’s webpage is: \nwww.newtonma.gov/gov/planning/cpa/projects/waban_hill.asp \nAt public hearings:  In-person comments are generally limited to 3 minutes.  The CPC may hold a funding vote immediately after the hearing or may schedule additional working sessions prior to voting.\n\n\n______________ \nNEXT FUNDING DEADLINE: 1 February 2015 \nProjects hoping to participate in the fall 2015 funding round must meet these deadlines: \n1 February 2015 to request the required in-person orientation meeting with staff. See contact information below. \n1 March 2015 to submit a pre-proposal for public discussion with the CPC.\n\n\n \n\n\nCONTACT:  Community Preservation Program Manager Alice Ingerson at 617.796.1144 or aingerson@newtonma.gov.
URL:https://lepto.org/event/newton-community-preservation-committee
LOCATION:Newton City Hall
END:VEVENT
BEGIN:VEVENT
DTSTART;VALUE=DATE:20141211
DTEND;VALUE=DATE:20141212
DTSTAMP:20260425T071458
CREATED:20141201T150812Z
LAST-MODIFIED:20141201T150812Z
UID:801-1418256000-1418342399@lepto.org
SUMMARY:Grade 2 Field Trip - Museum of Science
DESCRIPTION:
URL:https://lepto.org/event/grade-2-field-trip-museum-of-science
END:VEVENT
BEGIN:VEVENT
DTSTART;VALUE=DATE:20141208
DTEND;VALUE=DATE:20141209
DTSTAMP:20260425T071458
CREATED:20141201T150500Z
LAST-MODIFIED:20141201T150500Z
UID:799-1417996800-1418083199@lepto.org
SUMMARY:Hour of Code Event
DESCRIPTION:Last year\, Lincoln-Eliot was one of a few schools to participate in the first year of The Hour of Code. This year all the Newton Public Schools will participate in the program. “The Hour of Code is a global movement reaching tens of millions of students in 180+ countries. The program is a one-hour introduction to computer science\, designed to demystify code and show that anybody can learn the basics.” The Hour of Code supports Newton’s STEM (Science\, Technology\, Engineering\, Math) initiatives\, encourages critical thinking\, problem solving and perseverance. \nDuring the weeks of Dec 8-14 and Dec 15-19 every class will participate in the program with our IT and library specialists Jen Roy and Heather Leoleis. You can find more information on the Hour of Code website http://hourofcode.com/us and on this introductory video: \nhttps://www.youtube.com/watch?v=qYZF6oIZtfc
URL:https://lepto.org/event/hour-of-code-event
END:VEVENT
BEGIN:VEVENT
DTSTART;TZID=America/New_York:20141207T160000
DTEND;TZID=America/New_York:20141207T180000
DTSTAMP:20260425T071458
CREATED:20141201T154036Z
LAST-MODIFIED:20141201T154036Z
UID:820-1417968000-1417975200@lepto.org
SUMMARY:MUSIC AT THE MUSEUM - Cavalier Consort
DESCRIPTION:The Cavalier Consort is a group dedicated to performing lesser known music for the viola da gamba from the era of the English Civil War and Interregnum. They will perform a program of music from that era focusing on the turn of the seasons from fall into winter. The program will center on Christopher Simpson’s Winter along with theatrical music and airs and dances by composers including Matthew Locke and John Jenkins.  \n\nTickets are $15 and include admission to the museum\, $10 for seniors\, students\, and members – come early to tour the museum! At the Durant-Kenrick House and Grounds\, 286 Waverley Avenue.
URL:https://lepto.org/event/music-at-the-museum-cavalier-consort
END:VEVENT
BEGIN:VEVENT
DTSTART;TZID=America/New_York:20141207T100000
DTEND;TZID=America/New_York:20141207T160000
DTSTAMP:20260425T071458
CREATED:20141120T193119Z
LAST-MODIFIED:20141120T193119Z
UID:790-1417946400-1417968000@lepto.org
SUMMARY:Celebrate Newton Holiday Craft Show
DESCRIPTION:Join us at Celebrate Newton\, an annual juried crafts show running at Newton South High School on Sunday\, December 7. Stroll the aisles marveling at the fabric arts\, jewelry\, quilts\, pottery\, paintings\, photography\, wood sculptures\, and more; select the perfect holiday gifts. \nMore than 50 Newton artisans display and sell their works\, live music provides a welcoming backdrop\, and you’re likely to run into a friend at this popular community event. \nProceeds from the show support our mission to provide a breadth of educational and enrichment programs for all ages\, and help to grow our scholarship fund. So—hold off on your holiday shopping until Sunday December 7\, mark your calendars\, and spread the word! For more information or to apply to exhibit your work at the show\, visit www.celebratenewton.com.
URL:https://lepto.org/event/celebrate-newton-holiday-craft-show
LOCATION:Newton South High School\, 140 Brandeis Road\, Newton\, MA\, 02459\, United States
END:VEVENT
BEGIN:VEVENT
DTSTART;TZID=America/New_York:20141206T100000
DTEND;TZID=America/New_York:20141206T170000
DTSTAMP:20260425T071458
CREATED:20141113T163745Z
LAST-MODIFIED:20141113T163745Z
UID:762-1417860000-1417885200@lepto.org
SUMMARY:City of Newton Holiday Craft Fair
DESCRIPTION:One Show\, A Thousand Gifts \nPopular juried show and sale\, just in time for holiday shopping.  Colorful textiles\, glass\, jewelry\, pottery\, paintings\, photographs\, and wooden pieces  selected from artisans from New England. \n 
URL:https://lepto.org/event/city-of-newton-holiday-craft-fair
LOCATION:Newton Cultural Center\, 1000 Commonwealth Ave\, Newton\, MA\, United States
END:VEVENT
BEGIN:VEVENT
DTSTART;TZID=America/New_York:20141204T160000
DTEND;TZID=America/New_York:20141204T171500
DTSTAMP:20260425T071458
CREATED:20141201T192549Z
LAST-MODIFIED:20141201T192549Z
UID:823-1417708800-1417713300@lepto.org
SUMMARY:Holiday Lighting Ceremony
DESCRIPTION:Join in a spirited sing-along of holiday favorites with the award-winning Stacey Peasley Band. Beloved by audiences young and old\, the band’s joyful style is sure to get the whole family singing along. Then\, join Mayor Setti Warren as he flips the switch that turns the City Hall grounds into a winter wonderland of twinkling lights. Admission is free. Light refreshments. Please bring a non-perishable item for the Newton Food Pantries. www.newtoncommunityrpride.org for more information. \n 
URL:https://lepto.org/event/holiday-lighting-ceremony
END:VEVENT
BEGIN:VEVENT
DTSTART;VALUE=DATE:20141204
DTEND;VALUE=DATE:20141205
DTSTAMP:20260425T071458
CREATED:20141202T213023Z
LAST-MODIFIED:20141202T213023Z
UID:831-1417651200-1417737599@lepto.org
SUMMARY:Early Dismissal @ 12:30
DESCRIPTION:EARLY DISMISSAL THIS THURSDAY DECEMBER 4TH\, 2014 AT 12:30
URL:https://lepto.org/event/early-dismissal-1230
END:VEVENT
BEGIN:VEVENT
DTSTART;VALUE=DATE:20141127
DTEND;VALUE=DATE:20141129
DTSTAMP:20260425T071458
CREATED:20141031T180753Z
LAST-MODIFIED:20141031T180753Z
UID:724-1417046400-1417219199@lepto.org
SUMMARY:No School - Thanksgiving Holiday
DESCRIPTION:
URL:https://lepto.org/event/no-school-thanksgiving-holiday
END:VEVENT
BEGIN:VEVENT
DTSTART;TZID=America/New_York:20141126T090000
DTEND;TZID=America/New_York:20141126T104000
DTSTAMP:20260425T071458
CREATED:20141031T181053Z
LAST-MODIFIED:20141105T141740Z
UID:725-1416992400-1416998400@lepto.org
SUMMARY:Autumn Concert\, All Students
DESCRIPTION:You are invited to Lincoln-Eliot Autumn Music Festival!  Grades 3-5 will perform from 9:00-9:40 and Grades K-2 will perform from 10:00-10:40. Parents are invited to attend. Music teacher Devon Nelson will lead the students through a variety of autumn-themed songs to celebrate Thanksgiving and community. \nWho: Lincoln-Eliot’s Kindergarten\, 1st Grade and 2nd Grade classes\nWhat:  We will join together and sing songs of celebration and togetherness.\nWhen:  Wednesday\, November 26\, 2014  10:00-10:40\nWhere:  Lincoln-Eliot Gym \nAlso\, please check out the new and improved L.E. Music webpage! \n http://lincolneliotmusic.weebly.com/
URL:https://lepto.org/event/autumn-concert-all-student
LOCATION:L-E Gym
END:VEVENT
BEGIN:VEVENT
DTSTART;VALUE=DATE:20141126
DTEND;VALUE=DATE:20141127
DTSTAMP:20260425T071458
CREATED:20141031T180629Z
LAST-MODIFIED:20141113T212814Z
UID:723-1416960000-1417046399@lepto.org
SUMMARY:Thanksgiving Early Release
DESCRIPTION:12:00 Dismissal for the holiday.  All Plowshares Programs will be closing at 3:00 PM on Wednesday\, November 27th. \nNewton Public Schools will dismiss all elementary school students at 12:00 noon on Wednesday\, and we will be closing at 3:00 P.M.  Please make arrangements to have your child picked up by that time. \nIf your child is attending on this day\, please pack a lunch for them.  School lunch will not be available. \n 
URL:https://lepto.org/event/thanksgiving-early-release
END:VEVENT
BEGIN:VEVENT
DTSTART;TZID=America/New_York:20141120T190000
DTEND;TZID=America/New_York:20141120T200000
DTSTAMP:20260425T071458
CREATED:20141112T170457Z
LAST-MODIFIED:20141112T170457Z
UID:754-1416510000-1416513600@lepto.org
SUMMARY:Newton Preservation Committee
DESCRIPTION:This agenda includes: \n\nA final report on the Civil War Monument restoration project.\nDiscussion of an affordable housing pre-proposal for Taft Avenue (West Newton). Note: Pre-proposal discussions are advisory and do not involve funding votes.\nA working session on possible revision of the CPC’s current Funding Guidelines & proposal instructions.  Note:  This discussion will not include possible revisions to the Parks & Recreation Dept.’s criteria for its own proposals to the CPC\, which the Dept. plans to submit for a later meeting.\n\nAdditional Information Online\nFrom the program website\, www.newtonma.gov/cpa\, click on \n\nCommittees & Meetings – Current CPC Meetings for full agendas & pre-meeting packets\nProposals & Projects – Pending for more information about current pre- or full proposals
URL:https://lepto.org/event/newton-preservation-committee
LOCATION:City Hall Room 209
END:VEVENT
BEGIN:VEVENT
DTSTART;VALUE=DATE:20141119
DTEND;VALUE=DATE:20141120
DTSTAMP:20260425T071458
CREATED:20141105T142220Z
LAST-MODIFIED:20141105T142221Z
UID:738-1416355200-1416441599@lepto.org
SUMMARY:Deadline for Newton Girls Basketball
DESCRIPTION:Registration is underway for the upcoming season. The 2014-2015 Season will run from late November through mid-March. To register\, obtain additional details and to find out more about the league\, visit our website at http://www.ngba.net/. \n*Registration fees and Deadlines: \nGrade 2 $95 – deadline November 19\nGrades 3-8 $125 deadline November 19\nHigh School $95 deadline November 30 \n* A late fee will apply after the deadline. If the program is oversubscribed after the deadline your child will be placed on a waitlist and you will be contacted by a grade coordinator. \nMichael Cassidy \n617 877 0432 \n 
URL:https://lepto.org/event/deadline-for-newton-girls-basketball
END:VEVENT
BEGIN:VEVENT
DTSTART;TZID=America/New_York:20141118T190000
DTEND;TZID=America/New_York:20141118T200000
DTSTAMP:20260425T071458
CREATED:20141113T164839Z
LAST-MODIFIED:20141113T164839Z
UID:766-1416337200-1416340800@lepto.org
SUMMARY:Dad's Night at the YMCA
DESCRIPTION:All dad’s and their children are invited to the Newton Y to meet other dads and children and play basketball and hula. \nSponsored by the Newton Community Partnerships for Children & Families\, and the Newton Y.  If you have any questions contact beverly_mobilia@newton.k12.ma.us
URL:https://lepto.org/event/dads-night-at-the-ymca
LOCATION:Newton YMCA\, 276 Church Street\, Newton\, MA\, United States
END:VEVENT
BEGIN:VEVENT
DTSTART;TZID=America/New_York:20141118T080000
DTEND;TZID=America/New_York:20141118T090000
DTSTAMP:20260425T071458
CREATED:20141031T180419Z
LAST-MODIFIED:20141031T182031Z
UID:722-1416297600-1416301200@lepto.org
SUMMARY:PTO Meeting
DESCRIPTION:Please join us with special guest\, Alderman Scott Lennon to discuss building and pedestrian safety issues. Child care is provided in the cafeteria.
URL:https://lepto.org/event/pto-meeting
LOCATION:Music Room
END:VEVENT
BEGIN:VEVENT
DTSTART;TZID=America/New_York:20141117T091500
DTEND;TZID=America/New_York:20141117T114500
DTSTAMP:20260425T071458
CREATED:20141112T163502Z
LAST-MODIFIED:20141112T163502Z
UID:750-1416215700-1416224700@lepto.org
SUMMARY:MWRA Program for Students
DESCRIPTION:Water issues are key to environmental education. Learning about their places in the water cycle helps students see the links between their daily lives and important environmental issues like water conservation and pollution.  \nMWRA educational guides contain hands-on activities for\na range of topics and grade levels and are supported by free teacher workshops.  \n9:15-10:00 – Gr. 1 Cafeteria \n10:00-11:00 – Gr. 2 Gym \n11:00-11:45 – Gr. 5 Music Room
URL:https://lepto.org/event/mwra-program-for-students
END:VEVENT
BEGIN:VEVENT
DTSTART;TZID=America/New_York:20141115T100000
DTEND;TZID=America/New_York:20141115T110000
DTSTAMP:20260425T071458
CREATED:20141020T151749Z
LAST-MODIFIED:20141020T151749Z
UID:698-1416045600-1416049200@lepto.org
SUMMARY:KIDS’ KARATE–FREE TRIAL CLASS
DESCRIPTION:KIDS’ KARATE–FREE TRIAL CLASS Saturday\, November 15\, 10-11:00 a.m. at Lasell College. Girls and boys\, entry ages 1st thru 5th grades\, $79 per 7-Week Session. Free uniform upon enrolling. For more information\, please see kids-karate.org or leave message at (617) 527- 8052.
URL:https://lepto.org/event/kids-karate-free-trial-class
END:VEVENT
END:VCALENDAR