BEGIN:VCALENDAR
VERSION:2.0
PRODID:-//Lincoln-Eliot PTO - ECPv6.15.20//NONSGML v1.0//EN
CALSCALE:GREGORIAN
METHOD:PUBLISH
X-WR-CALNAME:Lincoln-Eliot PTO
X-ORIGINAL-URL:https://lepto.org
X-WR-CALDESC:Events for Lincoln-Eliot PTO
REFRESH-INTERVAL;VALUE=DURATION:PT1H
X-Robots-Tag:noindex
X-PUBLISHED-TTL:PT1H
BEGIN:VTIMEZONE
TZID:America/New_York
BEGIN:DAYLIGHT
TZOFFSETFROM:-0500
TZOFFSETTO:-0400
TZNAME:EDT
DTSTART:20130310T070000
END:DAYLIGHT
BEGIN:STANDARD
TZOFFSETFROM:-0400
TZOFFSETTO:-0500
TZNAME:EST
DTSTART:20131103T060000
END:STANDARD
BEGIN:DAYLIGHT
TZOFFSETFROM:-0500
TZOFFSETTO:-0400
TZNAME:EDT
DTSTART:20140309T070000
END:DAYLIGHT
BEGIN:STANDARD
TZOFFSETFROM:-0400
TZOFFSETTO:-0500
TZNAME:EST
DTSTART:20141102T060000
END:STANDARD
BEGIN:DAYLIGHT
TZOFFSETFROM:-0500
TZOFFSETTO:-0400
TZNAME:EDT
DTSTART:20150308T070000
END:DAYLIGHT
BEGIN:STANDARD
TZOFFSETFROM:-0400
TZOFFSETTO:-0500
TZNAME:EST
DTSTART:20151101T060000
END:STANDARD
END:VTIMEZONE
BEGIN:VEVENT
DTSTART;TZID=America/New_York:20141028T154500
DTEND;TZID=America/New_York:20141028T164500
DTSTAMP:20260425T093143
CREATED:20141027T172536Z
LAST-MODIFIED:20141027T172536Z
UID:717-1414511100-1414514700@lepto.org
SUMMARY:Windy City Players
DESCRIPTION:On Tuesday\, Oct 28th\, Windy City Players will be visiting Lincoln Eliot once again.  This is 3 person performing group from Chicago that travels to schools and childcares across the U.S bringing their adaptation to familiar kids fairy tales and stories.  They have been visiting every year at the Plowshares Childcare After School Programs at Lincoln Eliot and Franklin. \nThe first year they visited\, the niece of Lou Arcovio (director at Franklin) was in this group. They have been returning every year since.  They will be performing at 3:45pm on Tuesday\, and the show is about an hour with time for children to ask the actors/actresses questions. There will be a $5 charge for each child for this special event. It will be billed to the next bill. Any families who have children who do not attend Tuesdays are invited to come for this special event as well.
URL:https://lepto.org/event/windy-city-players
LOCATION:MA
END:VEVENT
BEGIN:VEVENT
DTSTART;TZID=America/New_York:20141027T190000
DTEND;TZID=America/New_York:20141027T200000
DTSTAMP:20260425T093143
CREATED:20141023T140323Z
LAST-MODIFIED:20141024T195224Z
UID:709-1414436400-1414440000@lepto.org
SUMMARY:School Committee Meeting
DESCRIPTION:School Committee Meeting\nOctober 27\, 2014 – 7:00pm\n@ Education Center\, 100 Walnut St.\, Newtonville \n  \nCan’t attend? Watch it here:\nNewton Governmental Channel City Meetings & programs by or about your elected officials. \n\nComcast Ch.9\nRCN Ch.13\nVerizon Ch. 33\n\nSchool Committee Meetings are live at 7:00pm. Click here to watch live. \nThe scheduled playback times for meetings are as follows: \nMonday-Friday 8am\nTuesday-Friday 12 midnight\, 7:30pm\nSaturday & Sunday 7:30pm
URL:https://lepto.org/event/school-committee-meeting
LOCATION:Education Center\,  100 Walnut St.\, Newtonville\, MA\, United States
END:VEVENT
BEGIN:VEVENT
DTSTART;TZID=America/New_York:20141027T090000
DTEND;TZID=America/New_York:20141027T093000
DTSTAMP:20260425T093143
CREATED:20141020T134412Z
LAST-MODIFIED:20141020T152352Z
UID:678-1414400400-1414402200@lepto.org
SUMMARY:School-Wide "Excellence" Assembly
DESCRIPTION:Ms. Uretsky and the staff have planned a series of 4 in–‐school assemblies for all grades to promote the school’s core values\, excellence and life–‐long learning. These assemblies will highlight the Growth Mindset initiative adopted by all Newton schools\, and will share student achievements. The first assembly will take place on October 27th in the Gym.
URL:https://lepto.org/event/school-wide-excellence-assembly
LOCATION:L-E Gym
END:VEVENT
BEGIN:VEVENT
DTSTART;TZID=America/New_York:20141024T180000
DTEND;TZID=America/New_York:20141024T200000
DTSTAMP:20260425T093143
CREATED:20140903T161151Z
LAST-MODIFIED:20141014T231222Z
UID:613-1414173600-1414180800@lepto.org
SUMMARY:Halloween Dance
DESCRIPTION:Click on the event link to open up the Dance Tickets in your browser
URL:https://lepto.org/event/halloween-dance
LOCATION:@ Lincoln-Eliot
END:VEVENT
BEGIN:VEVENT
DTSTART;TZID=America/New_York:20141022T160000
DTEND;TZID=America/New_York:20141022T180000
DTSTAMP:20260425T093143
CREATED:20141020T152012Z
LAST-MODIFIED:20141020T152012Z
UID:699-1413993600-1414000800@lepto.org
SUMMARY:Suzuki Preschool Open House
DESCRIPTION:The Suzuki Preschool of Newton will be hosting an open house on Wednesday October 22nd from 4:00-6:00pm located at 1860 Washington Street Auburndale\, MA 02466. This event is free and open to the public. This a great opportunity to come and acquaint yourself with our integrated arts curriculum\, meet the teachers and staff and receive a guided tour of our facility. The Suzuki Preschool offers Suzuki music daily but trained Suzuki musicians. \n\n\n\nFor inquires please contact: Marlene Lerer mlerer@suzukinewton.org 617.964.4522
URL:https://lepto.org/event/suzuki-preschool-open-house
LOCATION:Unnamed Venue\, 1860 Washington Street \, Auburndale\, MA\, United States
END:VEVENT
BEGIN:VEVENT
DTSTART;VALUE=DATE:20141022
DTEND;VALUE=DATE:20141023
DTSTAMP:20260425T093143
CREATED:20141020T150058Z
LAST-MODIFIED:20141020T150058Z
UID:689-1413936000-1414022399@lepto.org
SUMMARY:Journey into Jazz
DESCRIPTION:The next Creative Arts and Sciences (CASC) program will be the “Journey into Jazz” performances for grades K–‐2 and grades 3–‐5 on October 22\, 2014. In this presentation\, singer Semenya McCord and her trio will introduce students to the origins of jazz and its many evolutions (Students Only).
URL:https://lepto.org/event/journey-into-jazz
LOCATION:MA
END:VEVENT
BEGIN:VEVENT
DTSTART;TZID=America/New_York:20141020T183000
DTEND;TZID=America/New_York:20141020T200000
DTSTAMP:20260425T093143
CREATED:20141020T151349Z
LAST-MODIFIED:20141020T181530Z
UID:695-1413829800-1413835200@lepto.org
SUMMARY:Comedy Night
DESCRIPTION:COMMUNITY EVENT!    \nJoin us forComedy Night on Friday\, November 14\, 2014\,at the American Legion Post 440\, 295 California Street\, Newton. \n\n\n\nFeaturing comedy by Mike Donovan\, along with Mike Murray and John Turco\, tickets are $55 and include entry into a $500 value door prize\, table seating\, a hearty Italian meal\, musical entertainment by DJ Ken Drew and free parking! Also\, try your luck at our exciting raffles and live auction\, take advantage of a very affordable cash bar\, and share in plenty of laughs the whole night through! \n\n\n\n\n\n\nDate: Friday\, November 14\, 2014 \n\n\n\n\n\n\nDoors Open: 6:30 PM; Show: 8:00 PM\nLocation: American Legion Post 440\, 295 California Street\, Newton\nTicket Cost: $55 each | $550 table of 10\nOriginally from South Boston\, Mike Donovan has been doing full stand-up comedy since\n1978. He has been featured on the NESN Comedy All Stars TV Show\, has appeared on THE BEST DAMN SPORTS SHOW PERIOD with Tom Arnold on the Fox Television Network and was featured in the SHOWTIME documentary “When Standup Stood Out.” Mike Donovan is a \n\n\n\n\n\n\n\nregular headliner at the Comedy Stops at the Tropicana\, Atlantic City and Sahara\, Las Vegas. He \n\n\n\n\nhas also appeared at the Flamingo Hotel in Laughlin\, Nevada.\nBe sure to purchase your advanced tickets online or contact Diane at: (617) 630 2066or dmarangoly@newtonbgc.com.
URL:https://lepto.org/event/comedy-night
LOCATION:Americna Legion\, 295 California Street\, Newton\, MA\, United States
END:VEVENT
BEGIN:VEVENT
DTSTART;TZID=America/New_York:20141014T183000
DTEND;TZID=America/New_York:20141014T200000
DTSTAMP:20260425T093143
CREATED:20141014T132736Z
LAST-MODIFIED:20141014T132736Z
UID:674-1413311400-1413316800@lepto.org
SUMMARY:2nd PTO Meeting
DESCRIPTION:Please join us for the next PTO meeting of the year on Tuesday\, October 14\, 2014 at 6:30pm in the Music Room. The agenda includes Open positions\, Principal and building updates\, and Upcoming events. All are welcome…please join us!
URL:https://lepto.org/event/2nd-pto-meeting-2
LOCATION:Music Room
END:VEVENT
BEGIN:VEVENT
DTSTART;VALUE=DATE:20141013
DTEND;VALUE=DATE:20141014
DTSTAMP:20260425T093143
CREATED:20140903T160901Z
LAST-MODIFIED:20140903T160901Z
UID:610-1413158400-1413244799@lepto.org
SUMMARY:Columbus Day Holiday
DESCRIPTION:
URL:https://lepto.org/event/columbus-day-holiday
LOCATION:MA
END:VEVENT
BEGIN:VEVENT
DTSTART;VALUE=DATE:20141006
DTEND;VALUE=DATE:20141007
DTSTAMP:20260425T093143
CREATED:20140903T160827Z
LAST-MODIFIED:20140903T160827Z
UID:609-1412553600-1412639999@lepto.org
SUMMARY:First Full Day of Kindergarten (Group A)
DESCRIPTION:
URL:https://lepto.org/event/first-full-day-of-kindergarten-group-a
LOCATION:MA
END:VEVENT
BEGIN:VEVENT
DTSTART;TZID=America/New_York:20141003T183000
DTEND;TZID=America/New_York:20141003T200000
DTSTAMP:20260425T093143
CREATED:20140903T160931Z
LAST-MODIFIED:20140903T161328Z
UID:611-1412361000-1412366400@lepto.org
SUMMARY:2nd PTO Meeting
DESCRIPTION:
URL:https://lepto.org/event/2nd-pto-meeting
LOCATION:@ Lincoln-Eliot
END:VEVENT
BEGIN:VEVENT
DTSTART;VALUE=DATE:20141002
DTEND;VALUE=DATE:20141003
DTSTAMP:20260425T093143
CREATED:20140903T160803Z
LAST-MODIFIED:20140903T160803Z
UID:608-1412208000-1412294399@lepto.org
SUMMARY:First Full Day of Kindergarten (Group B)
DESCRIPTION:
URL:https://lepto.org/event/first-full-day-of-kindergarten-group-b
LOCATION:MA
END:VEVENT
BEGIN:VEVENT
DTSTART;VALUE=DATE:20141001
DTEND;VALUE=DATE:20141002
DTSTAMP:20260425T093143
CREATED:20140903T160731Z
LAST-MODIFIED:20140903T160731Z
UID:607-1412121600-1412207999@lepto.org
SUMMARY:Picture Day
DESCRIPTION:
URL:https://lepto.org/event/picture-day
LOCATION:MA
END:VEVENT
BEGIN:VEVENT
DTSTART;VALUE=DATE:20140925
DTEND;VALUE=DATE:20140926
DTSTAMP:20260425T093143
CREATED:20140903T160644Z
LAST-MODIFIED:20140903T160704Z
UID:606-1411603200-1411689599@lepto.org
SUMMARY:Rosh Hashanah Holiday
DESCRIPTION:Lincoln-Eliot will be closed for the holiday
URL:https://lepto.org/event/rosh-hashanah-holiday
LOCATION:MA
END:VEVENT
BEGIN:VEVENT
DTSTART;TZID=America/New_York:20140918T183000
DTEND;TZID=America/New_York:20140918T193000
DTSTAMP:20260425T093143
CREATED:20140903T160615Z
LAST-MODIFIED:20140903T160615Z
UID:605-1411065000-1411068600@lepto.org
SUMMARY:Curriculum Night/Open House
DESCRIPTION:
URL:https://lepto.org/event/curriculum-nightopen-house
LOCATION:@ Lincoln-Eliot
END:VEVENT
BEGIN:VEVENT
DTSTART;TZID=America/New_York:20140915T080000
DTEND;TZID=America/New_York:20140915T090000
DTSTAMP:20260425T093143
CREATED:20140903T201701Z
LAST-MODIFIED:20140903T201701Z
UID:643-1410768000-1410771600@lepto.org
SUMMARY:1st PTO Meeting
DESCRIPTION:
URL:https://lepto.org/event/1st-pto-meeting
LOCATION:MA
END:VEVENT
BEGIN:VEVENT
DTSTART;TZID=America/New_York:20140910T173000
DTEND;TZID=America/New_York:20140910T190000
DTSTAMP:20260425T093143
CREATED:20140903T160202Z
LAST-MODIFIED:20140903T201519Z
UID:602-1410370200-1410375600@lepto.org
SUMMARY:PTO Back-to-School Picnic
DESCRIPTION:Rain Date is Thurs. Sept. 11
URL:https://lepto.org/event/pto-back-to-school-picnic
LOCATION:@ Lincoln-Eliot
END:VEVENT
BEGIN:VEVENT
DTSTART;VALUE=DATE:20140904
DTEND;VALUE=DATE:20140905
DTSTAMP:20260425T093143
CREATED:20140903T155948Z
LAST-MODIFIED:20140903T155948Z
UID:601-1409788800-1409875199@lepto.org
SUMMARY:Group A & B Kindergarten 12:30 Dismissal
DESCRIPTION:
URL:https://lepto.org/event/group-a-b-kindergarten-1230-dismissal
LOCATION:MA
END:VEVENT
BEGIN:VEVENT
DTSTART;TZID=America/New_York:20140903T093000
DTEND;TZID=America/New_York:20140903T105000
DTSTAMP:20260425T093143
CREATED:20140903T161114Z
LAST-MODIFIED:20140903T161114Z
UID:612-1409736600-1409741400@lepto.org
SUMMARY:CASC Concert Series schedule for Semenya McCord's "Journey Into Jazz"
DESCRIPTION:9:00-9:50 – Grades K-2\n10-10:50 – Grades 3-5
URL:https://lepto.org/event/casc-concert-series-schedule-for-semenya-mccords-journey-into-jazz
LOCATION:@ Lincoln-Eliot
END:VEVENT
BEGIN:VEVENT
DTSTART;TZID=America/New_York:20140903T080000
DTEND;TZID=America/New_York:20140903T090000
DTSTAMP:20260425T093143
CREATED:20140903T160521Z
LAST-MODIFIED:20140903T160521Z
UID:604-1409731200-1409734800@lepto.org
SUMMARY:First PTO Meeting for 2014-2015
DESCRIPTION:
URL:https://lepto.org/event/first-pto-meeting-for-2014-2015
LOCATION:@ Lincoln-Eliot
END:VEVENT
END:VCALENDAR