BEGIN:VCALENDAR
VERSION:2.0
PRODID:-//Lincoln-Eliot PTO - ECPv6.15.20//NONSGML v1.0//EN
CALSCALE:GREGORIAN
METHOD:PUBLISH
X-WR-CALNAME:Lincoln-Eliot PTO
X-ORIGINAL-URL:https://lepto.org
X-WR-CALDESC:Events for Lincoln-Eliot PTO
REFRESH-INTERVAL;VALUE=DURATION:PT1H
X-Robots-Tag:noindex
X-PUBLISHED-TTL:PT1H
BEGIN:VTIMEZONE
TZID:America/New_York
BEGIN:DAYLIGHT
TZOFFSETFROM:-0500
TZOFFSETTO:-0400
TZNAME:EDT
DTSTART:20140309T070000
END:DAYLIGHT
BEGIN:STANDARD
TZOFFSETFROM:-0400
TZOFFSETTO:-0500
TZNAME:EST
DTSTART:20141102T060000
END:STANDARD
BEGIN:DAYLIGHT
TZOFFSETFROM:-0500
TZOFFSETTO:-0400
TZNAME:EDT
DTSTART:20150308T070000
END:DAYLIGHT
BEGIN:STANDARD
TZOFFSETFROM:-0400
TZOFFSETTO:-0500
TZNAME:EST
DTSTART:20151101T060000
END:STANDARD
BEGIN:DAYLIGHT
TZOFFSETFROM:-0500
TZOFFSETTO:-0400
TZNAME:EDT
DTSTART:20160313T070000
END:DAYLIGHT
BEGIN:STANDARD
TZOFFSETFROM:-0400
TZOFFSETTO:-0500
TZNAME:EST
DTSTART:20161106T060000
END:STANDARD
BEGIN:DAYLIGHT
TZOFFSETFROM:-0500
TZOFFSETTO:-0400
TZNAME:EDT
DTSTART:20170312T070000
END:DAYLIGHT
BEGIN:STANDARD
TZOFFSETFROM:-0400
TZOFFSETTO:-0500
TZNAME:EST
DTSTART:20171105T060000
END:STANDARD
END:VTIMEZONE
BEGIN:VEVENT
DTSTART;VALUE=DATE:20160203
DTEND;VALUE=DATE:20160204
DTSTAMP:20260424T090111
CREATED:20160122T203421Z
LAST-MODIFIED:20160122T203421Z
UID:1279-1454457600-1454543999@lepto.org
SUMMARY:12:30 Dismissal - Teacher Professional Development Day
DESCRIPTION:
URL:https://lepto.org/event/1230-dismissal-teacher-professional-development-day-2
END:VEVENT
BEGIN:VEVENT
DTSTART;TZID=America/New_York:20160128T083000
DTEND;TZID=America/New_York:20160129T093000
DTSTAMP:20260424T090111
CREATED:20160122T203334Z
LAST-MODIFIED:20160122T203334Z
UID:1278-1453969800-1454059800@lepto.org
SUMMARY:Crocodile River Music\, Dance Workshops Grades 1-5
DESCRIPTION:
URL:https://lepto.org/event/crocodile-river-music-dance-workshops-grades-1-5
END:VEVENT
BEGIN:VEVENT
DTSTART;VALUE=DATE:20160127
DTEND;VALUE=DATE:20160211
DTSTAMP:20260424T090111
CREATED:20160111T144440Z
LAST-MODIFIED:20160111T144448Z
UID:1269-1453852800-1455148799@lepto.org
SUMMARY:PTO Fundraiser – Otis Spunkmeyer Cookiedough
DESCRIPTION:
URL:https://lepto.org/event/pto-fundraiser-otis-spunkmeyer-cookiedough-flyer-attached
END:VEVENT
BEGIN:VEVENT
DTSTART;TZID=America/New_York:20160125T083000
DTEND;TZID=America/New_York:20160125T093000
DTSTAMP:20260424T090111
CREATED:20160111T144409Z
LAST-MODIFIED:20160111T144409Z
UID:1268-1453710600-1453714200@lepto.org
SUMMARY:PTO Meeting with Superintendent Fleishman and School Committee Members
DESCRIPTION:
URL:https://lepto.org/event/pto-meeting-with-superintendent-fleishman-and-school-committee-members
END:VEVENT
BEGIN:VEVENT
DTSTART;TZID=America/New_York:20160120T190000
DTEND;TZID=America/New_York:20160120T210000
DTSTAMP:20260424T090111
CREATED:20160111T144326Z
LAST-MODIFIED:20160111T144326Z
UID:1267-1453316400-1453323600@lepto.org
SUMMARY:Grade 5 Concert – families encouraged to attend
DESCRIPTION:
URL:https://lepto.org/event/grade-5-concert-families-encouraged-to-attend
END:VEVENT
BEGIN:VEVENT
DTSTART;TZID=America/New_York:20160105T004500
DTEND;TZID=America/New_York:20160105T144500
DTSTAMP:20260424T090111
CREATED:20151204T215105Z
LAST-MODIFIED:20151204T215105Z
UID:1260-1451954700-1452005100@lepto.org
SUMMARY:Home Alone Safety Class
DESCRIPTION:There will be a Home Alone Safety Class offered through Newton Community Education at Lincoln Eliot on Tuesday\, January 5 from 12:45-2:45pm. This class is for 3rd-5th graders. \nDescription: Take the first steps towards independence. Learn telephone and door-answering techniques\, accident and fire protection\, first aid techniques\, and all about Internet safety. We’ll talk about how to manage your time when you’re home alone for short amounts of time\, watch an instructional video\, and explore scenarios through role-playing. \nPlease take advantage of this opportunity for your child.  The link for registration through Newton Community Education is: \nhttps://registration.xenegrade.com/nce/coursedisplay.cfm?schID=7762 \nThe course fee is $45\, however please contact Ms. Uretsky if you need financial assistance or have any questions.
URL:https://lepto.org/event/home-alone-safety-class
END:VEVENT
BEGIN:VEVENT
DTSTART;VALUE=DATE:20151224
DTEND;VALUE=DATE:20160104
DTSTAMP:20260424T090111
CREATED:20151204T214654Z
LAST-MODIFIED:20151204T214654Z
UID:1257-1450915200-1451865599@lepto.org
SUMMARY:NO SCHOOL - Holiday Break
DESCRIPTION:
URL:https://lepto.org/event/no-school-holiday-break
END:VEVENT
BEGIN:VEVENT
DTSTART;TZID=America/New_York:20151221T082000
DTEND;TZID=America/New_York:20151221T090000
DTSTAMP:20260424T090111
CREATED:20151204T214620Z
LAST-MODIFIED:20151204T214620Z
UID:1256-1450686000-1450688400@lepto.org
SUMMARY:Grade 2 Author’s Celebration – parents invited
DESCRIPTION:
URL:https://lepto.org/event/grade-2-authors-celebration-parents-invited
END:VEVENT
BEGIN:VEVENT
DTSTART;TZID=America/New_York:20151218T083000
DTEND;TZID=America/New_York:20151218T140000
DTSTAMP:20260424T090111
CREATED:20151204T214543Z
LAST-MODIFIED:20151204T214543Z
UID:1255-1450427400-1450447200@lepto.org
SUMMARY:Grade 2 Field Trip\, Museum of Science
DESCRIPTION:
URL:https://lepto.org/event/grade-2-field-trip-museum-of-science-2
END:VEVENT
BEGIN:VEVENT
DTSTART;VALUE=DATE:20151209
DTEND;VALUE=DATE:20151215
DTSTAMP:20260424T090111
CREATED:20151204T214506Z
LAST-MODIFIED:20151204T214506Z
UID:1254-1449619200-1450137599@lepto.org
SUMMARY:African Artifact Museum
DESCRIPTION:
URL:https://lepto.org/event/african-artifact-museum
END:VEVENT
BEGIN:VEVENT
DTSTART;VALUE=DATE:20151207
DTEND;VALUE=DATE:20151212
DTSTAMP:20260424T090111
CREATED:20151204T214433Z
LAST-MODIFIED:20151204T214433Z
UID:1253-1449446400-1449878399@lepto.org
SUMMARY:Week of Code
DESCRIPTION:
URL:https://lepto.org/event/week-of-code
END:VEVENT
BEGIN:VEVENT
DTSTART;TZID=America/New_York:20151204T090000
DTEND;TZID=America/New_York:20151204T100000
DTSTAMP:20260424T090111
CREATED:20151130T164120Z
LAST-MODIFIED:20151130T164204Z
UID:1249-1449219600-1449223200@lepto.org
SUMMARY:PTO Program- Crocodile River Music and Dance- Cultural Journey through Africa
DESCRIPTION:
URL:https://lepto.org/event/pto-program-crocodile-river-music-and-dance-cultural-journey-through-africa
END:VEVENT
BEGIN:VEVENT
DTSTART;TZID=America/New_York:20151203T123000
DTEND;TZID=America/New_York:20151203T150000
DTSTAMP:20260424T090111
CREATED:20151130T164023Z
LAST-MODIFIED:20151130T164032Z
UID:1248-1449145800-1449154800@lepto.org
SUMMARY:Half-Day - Teacher Professional Development Day
DESCRIPTION:
URL:https://lepto.org/event/half-day-teacher-professional-development-day
END:VEVENT
BEGIN:VEVENT
DTSTART;VALUE=DATE:20151202
DTEND;VALUE=DATE:20151203
DTSTAMP:20260424T090111
CREATED:20151130T163914Z
LAST-MODIFIED:20151130T163914Z
UID:1247-1449014400-1449100799@lepto.org
SUMMARY:Gr. 3 Haiku Program\, Newton Public Library
DESCRIPTION:
URL:https://lepto.org/event/gr-3-haiku-program-newton-public-library
END:VEVENT
BEGIN:VEVENT
DTSTART;VALUE=DATE:20151201
DTEND;VALUE=DATE:20151202
DTSTAMP:20260424T090111
CREATED:20151130T163841Z
LAST-MODIFIED:20151130T163936Z
UID:1246-1448928000-1449014399@lepto.org
SUMMARY:Gr. 5 Holiday Sing at the Senior Center
DESCRIPTION:
URL:https://lepto.org/event/gr-5-holiday-sing-at-the-senior-center
END:VEVENT
BEGIN:VEVENT
DTSTART;VALUE=DATE:20151112
DTEND;VALUE=DATE:20151113
DTSTAMP:20260424T090111
CREATED:20151019T150434Z
LAST-MODIFIED:20151019T150434Z
UID:1221-1447286400-1447372799@lepto.org
SUMMARY:Gr. 1 Field Trip - Jackson Homestead
DESCRIPTION:
URL:https://lepto.org/event/gr-1-field-trip-jackson-homestead
END:VEVENT
BEGIN:VEVENT
DTSTART;VALUE=DATE:20151111
DTEND;VALUE=DATE:20151112
DTSTAMP:20260424T090111
CREATED:20151019T150331Z
LAST-MODIFIED:20151019T150331Z
UID:1220-1447200000-1447286399@lepto.org
SUMMARY:Veteran's Day - No School
DESCRIPTION:
URL:https://lepto.org/event/veterans-day-no-school
END:VEVENT
BEGIN:VEVENT
DTSTART;TZID=America/New_York:20151110T083000
DTEND;TZID=America/New_York:20151110T091500
DTSTAMP:20260424T090111
CREATED:20151019T150252Z
LAST-MODIFIED:20151019T150252Z
UID:1219-1447144200-1447146900@lepto.org
SUMMARY:Joint Site Council & PTO MTG (Library) Topic: Playground
DESCRIPTION:
URL:https://lepto.org/event/joint-site-council-pto-mtg-library-topic-playground
END:VEVENT
BEGIN:VEVENT
DTSTART;VALUE=DATE:20151105
DTEND;VALUE=DATE:20151106
DTSTAMP:20260424T090111
CREATED:20151007T202048Z
LAST-MODIFIED:20151007T202048Z
UID:1211-1446681600-1446767999@lepto.org
SUMMARY:12:30 Dismissal - Teacher Professional Development Day
DESCRIPTION:
URL:https://lepto.org/event/1230-dismissal-teacher-professional-development-day
END:VEVENT
BEGIN:VEVENT
DTSTART;VALUE=DATE:20151103
DTEND;VALUE=DATE:20151104
DTSTAMP:20260424T090111
CREATED:20151007T202003Z
LAST-MODIFIED:20151007T202003Z
UID:1210-1446508800-1446595199@lepto.org
SUMMARY:Election Day\, Municipal Election
DESCRIPTION:
URL:https://lepto.org/event/election-day-municipal-election
END:VEVENT
BEGIN:VEVENT
DTSTART;TZID=America/New_York:20151030T180000
DTEND;TZID=America/New_York:20151030T200000
DTSTAMP:20260424T090111
CREATED:20151007T201921Z
LAST-MODIFIED:20151007T201921Z
UID:1209-1446228000-1446235200@lepto.org
SUMMARY:Halloween Dance
DESCRIPTION:
URL:https://lepto.org/event/halloween-dance-2
END:VEVENT
BEGIN:VEVENT
DTSTART;VALUE=DATE:20151022
DTEND;VALUE=DATE:20151023
DTSTAMP:20260424T090111
CREATED:20151007T201844Z
LAST-MODIFIED:20151007T201844Z
UID:1208-1445472000-1445558399@lepto.org
SUMMARY:Grade 4 Field Trip - Lowell Mills
DESCRIPTION:
URL:https://lepto.org/event/grade-4-field-trip-lowell-mills
END:VEVENT
BEGIN:VEVENT
DTSTART;VALUE=DATE:20151021
DTEND;VALUE=DATE:20151022
DTSTAMP:20260424T090111
CREATED:20151007T201811Z
LAST-MODIFIED:20151007T201811Z
UID:1207-1445385600-1445471999@lepto.org
SUMMARY:Grade 3 Field Trip\, Arnold Arboretum
DESCRIPTION:
URL:https://lepto.org/event/grade-3-field-trip-arnold-arboretum
END:VEVENT
BEGIN:VEVENT
DTSTART;VALUE=DATE:20151012
DTEND;VALUE=DATE:20151013
DTSTAMP:20260424T090111
CREATED:20150908T145711Z
LAST-MODIFIED:20150908T145711Z
UID:1185-1444608000-1444694399@lepto.org
SUMMARY:No School - Columbus Day
DESCRIPTION:
URL:https://lepto.org/event/no-school-columbus-day
END:VEVENT
BEGIN:VEVENT
DTSTART;VALUE=DATE:20151008
DTEND;VALUE=DATE:20151009
DTSTAMP:20260424T090111
CREATED:20150908T145625Z
LAST-MODIFIED:20150908T145625Z
UID:1184-1444262400-1444348799@lepto.org
SUMMARY:12:30 Dismissal - Teacher Professional Development
DESCRIPTION:
URL:https://lepto.org/event/1230-dismissal-teacher-professional-development
END:VEVENT
BEGIN:VEVENT
DTSTART;VALUE=DATE:20151007
DTEND;VALUE=DATE:20151008
DTSTAMP:20260424T090111
CREATED:20150908T145536Z
LAST-MODIFIED:20150908T145536Z
UID:1183-1444176000-1444262399@lepto.org
SUMMARY:International Walk to School Day
DESCRIPTION:
URL:https://lepto.org/event/international-walk-to-school-day
END:VEVENT
BEGIN:VEVENT
DTSTART;VALUE=DATE:20151007
DTEND;VALUE=DATE:20151008
DTSTAMP:20260424T090111
CREATED:20150908T145457Z
LAST-MODIFIED:20150908T145457Z
UID:1182-1444176000-1444262399@lepto.org
SUMMARY:PTO Program Grade 3 - The Tree Guy
DESCRIPTION:
URL:https://lepto.org/event/pto-program-grade-3-the-tree-guy
END:VEVENT
BEGIN:VEVENT
DTSTART;VALUE=DATE:20151005
DTEND;VALUE=DATE:20151006
DTSTAMP:20260424T090111
CREATED:20150831T141051Z
LAST-MODIFIED:20150831T141051Z
UID:1176-1444003200-1444089599@lepto.org
SUMMARY:Full Day Kindergarten Group A Begins (Mon. & Wed.)
DESCRIPTION:
URL:https://lepto.org/event/full-day-kindergarten-group-a-begins-mon-wed
END:VEVENT
BEGIN:VEVENT
DTSTART;VALUE=DATE:20151001
DTEND;VALUE=DATE:20151002
DTSTAMP:20260424T090111
CREATED:20150831T141027Z
LAST-MODIFIED:20150831T141027Z
UID:1175-1443657600-1443743999@lepto.org
SUMMARY:Full Day Kindergarten Group B Begins (Thurs. & Fri)
DESCRIPTION:
URL:https://lepto.org/event/full-day-kindergarten-group-b-begins-thurs-fri
END:VEVENT
BEGIN:VEVENT
DTSTART;VALUE=DATE:20150930
DTEND;VALUE=DATE:20151001
DTSTAMP:20260424T090111
CREATED:20150831T140846Z
LAST-MODIFIED:20150831T140846Z
UID:1174-1443571200-1443657599@lepto.org
SUMMARY:School Picture Day
DESCRIPTION:
URL:https://lepto.org/event/school-picture-day
END:VEVENT
END:VCALENDAR