BEGIN:VCALENDAR
VERSION:2.0
PRODID:-//Lincoln-Eliot PTO - ECPv6.15.20//NONSGML v1.0//EN
CALSCALE:GREGORIAN
METHOD:PUBLISH
X-WR-CALNAME:Lincoln-Eliot PTO
X-ORIGINAL-URL:https://lepto.org
X-WR-CALDESC:Events for Lincoln-Eliot PTO
REFRESH-INTERVAL;VALUE=DURATION:PT1H
X-Robots-Tag:noindex
X-PUBLISHED-TTL:PT1H
BEGIN:VTIMEZONE
TZID:America/New_York
BEGIN:DAYLIGHT
TZOFFSETFROM:-0500
TZOFFSETTO:-0400
TZNAME:EDT
DTSTART:20240310T070000
END:DAYLIGHT
BEGIN:STANDARD
TZOFFSETFROM:-0400
TZOFFSETTO:-0500
TZNAME:EST
DTSTART:20241103T060000
END:STANDARD
BEGIN:DAYLIGHT
TZOFFSETFROM:-0500
TZOFFSETTO:-0400
TZNAME:EDT
DTSTART:20250309T070000
END:DAYLIGHT
BEGIN:STANDARD
TZOFFSETFROM:-0400
TZOFFSETTO:-0500
TZNAME:EST
DTSTART:20251102T060000
END:STANDARD
BEGIN:DAYLIGHT
TZOFFSETFROM:-0500
TZOFFSETTO:-0400
TZNAME:EDT
DTSTART:20260308T070000
END:DAYLIGHT
BEGIN:STANDARD
TZOFFSETFROM:-0400
TZOFFSETTO:-0500
TZNAME:EST
DTSTART:20261101T060000
END:STANDARD
END:VTIMEZONE
BEGIN:VEVENT
DTSTART;TZID=America/New_York:20250915T080000
DTEND;TZID=America/New_York:20250915T170000
DTSTAMP:20260423T205103
CREATED:20250916T022808Z
LAST-MODIFIED:20250916T022808Z
UID:6652-1757923200-1757955600@lepto.org
SUMMARY:NO SCHOOL (Veterans Day)
DESCRIPTION:
URL:https://lepto.org/event/no-school-veterans-day-2
END:VEVENT
BEGIN:VEVENT
DTSTART;TZID=America/New_York:20250915T080000
DTEND;TZID=America/New_York:20250915T170000
DTSTAMP:20260423T205103
CREATED:20250916T024129Z
LAST-MODIFIED:20250916T024129Z
UID:6682-1757923200-1757955600@lepto.org
SUMMARY:Early Dismissal for Thanksgiving Break (12:10pm)
DESCRIPTION:
URL:https://lepto.org/event/early-dismissal-for-thanksgiving-break-1210pm
END:VEVENT
BEGIN:VEVENT
DTSTART;TZID=America/New_York:20250917T180000
DTEND;TZID=America/New_York:20250917T200000
DTSTAMP:20260423T205103
CREATED:20250914T023843Z
LAST-MODIFIED:20250914T023843Z
UID:6616-1758132000-1758139200@lepto.org
SUMMARY:Curriculum Night
DESCRIPTION:
URL:https://lepto.org/event/curriculum-night
END:VEVENT
BEGIN:VEVENT
DTSTART;VALUE=DATE:20250919
DTEND;VALUE=DATE:20250920
DTSTAMP:20260423T205103
CREATED:20250916T012324Z
LAST-MODIFIED:20250916T012324Z
UID:6634-1758240000-1758326399@lepto.org
SUMMARY:L-E Picture Day
DESCRIPTION:
URL:https://lepto.org/event/l-e-picture-day
END:VEVENT
BEGIN:VEVENT
DTSTART;VALUE=DATE:20250923
DTEND;VALUE=DATE:20250924
DTSTAMP:20260423T205103
CREATED:20250916T012221Z
LAST-MODIFIED:20250916T012617Z
UID:6632-1758585600-1758671999@lepto.org
SUMMARY:NO SCHOOL (Rosh Hashanah)
DESCRIPTION:
URL:https://lepto.org/event/rosh-hashanah-no-school
END:VEVENT
BEGIN:VEVENT
DTSTART;VALUE=DATE:20250925
DTEND;VALUE=DATE:20250926
DTSTAMP:20260423T205103
CREATED:20250916T012449Z
LAST-MODIFIED:20250916T023459Z
UID:6636-1758758400-1758844799@lepto.org
SUMMARY:Early Release (12:10pm)
DESCRIPTION:
URL:https://lepto.org/event/early-dismissal
END:VEVENT
BEGIN:VEVENT
DTSTART;TZID=America/New_York:20250930T170000
DTEND;TZID=America/New_York:20250930T183000
DTSTAMP:20260423T205103
CREATED:20250914T023348Z
LAST-MODIFIED:20250924T171242Z
UID:6611-1759251600-1759257000@lepto.org
SUMMARY:NEW DATE: Back-to-School Picnic
DESCRIPTION:Giant play date in front of the new Lincoln-Eliot!
URL:https://lepto.org/event/back-to-school-picnic
CATEGORIES:PTO Organized
END:VEVENT
END:VCALENDAR