BEGIN:VCALENDAR
VERSION:2.0
PRODID:-//Lincoln-Eliot PTO - ECPv6.15.20//NONSGML v1.0//EN
CALSCALE:GREGORIAN
METHOD:PUBLISH
X-ORIGINAL-URL:https://lepto.org
X-WR-CALDESC:Events for Lincoln-Eliot PTO
REFRESH-INTERVAL;VALUE=DURATION:PT1H
X-Robots-Tag:noindex
X-PUBLISHED-TTL:PT1H
BEGIN:VTIMEZONE
TZID:America/New_York
BEGIN:DAYLIGHT
TZOFFSETFROM:-0500
TZOFFSETTO:-0400
TZNAME:EDT
DTSTART:20240310T070000
END:DAYLIGHT
BEGIN:STANDARD
TZOFFSETFROM:-0400
TZOFFSETTO:-0500
TZNAME:EST
DTSTART:20241103T060000
END:STANDARD
BEGIN:DAYLIGHT
TZOFFSETFROM:-0500
TZOFFSETTO:-0400
TZNAME:EDT
DTSTART:20250309T070000
END:DAYLIGHT
BEGIN:STANDARD
TZOFFSETFROM:-0400
TZOFFSETTO:-0500
TZNAME:EST
DTSTART:20251102T060000
END:STANDARD
BEGIN:DAYLIGHT
TZOFFSETFROM:-0500
TZOFFSETTO:-0400
TZNAME:EDT
DTSTART:20260308T070000
END:DAYLIGHT
BEGIN:STANDARD
TZOFFSETFROM:-0400
TZOFFSETTO:-0500
TZNAME:EST
DTSTART:20261101T060000
END:STANDARD
END:VTIMEZONE
BEGIN:VEVENT
DTSTART;VALUE=DATE:20251028
DTEND;VALUE=DATE:20251108
DTSTAMP:20260423T175025
CREATED:20250916T012820Z
LAST-MODIFIED:20250916T012820Z
UID:6642-1761609600-1762559999@lepto.org
SUMMARY:Family/Teacher Fall Conferences
DESCRIPTION:
URL:https://lepto.org/event/family-teacher-fall-conferences
END:VEVENT
BEGIN:VEVENT
DTSTART;VALUE=DATE:20251104
DTEND;VALUE=DATE:20251105
DTSTAMP:20260423T175025
CREATED:20250916T022718Z
LAST-MODIFIED:20250916T022718Z
UID:6650-1762214400-1762300799@lepto.org
SUMMARY:NO SCHOOL (Election Day)
DESCRIPTION:
URL:https://lepto.org/event/no-school-election-day
END:VEVENT
BEGIN:VEVENT
DTSTART;VALUE=DATE:20251111
DTEND;VALUE=DATE:20251112
DTSTAMP:20260423T175025
CREATED:20251007T131645Z
LAST-MODIFIED:20251007T131645Z
UID:6905-1762819200-1762905599@lepto.org
SUMMARY:NO SCHOOL (Veterans Day)
DESCRIPTION:
URL:https://lepto.org/event/no-school-veterans-day-3
END:VEVENT
BEGIN:VEVENT
DTSTART;VALUE=DATE:20251127
DTEND;VALUE=DATE:20251129
DTSTAMP:20260423T175025
CREATED:20250916T023011Z
LAST-MODIFIED:20250916T023011Z
UID:6656-1764201600-1764374399@lepto.org
SUMMARY:Thanksgiving Recess
DESCRIPTION:
URL:https://lepto.org/event/thanksgiving-recess
END:VEVENT
END:VCALENDAR