BEGIN:VCALENDAR
VERSION:2.0
PRODID:-//Lincoln-Eliot PTO - ECPv6.15.20//NONSGML v1.0//EN
CALSCALE:GREGORIAN
METHOD:PUBLISH
X-ORIGINAL-URL:https://lepto.org
X-WR-CALDESC:Events for Lincoln-Eliot PTO
REFRESH-INTERVAL;VALUE=DURATION:PT1H
X-Robots-Tag:noindex
X-PUBLISHED-TTL:PT1H
BEGIN:VTIMEZONE
TZID:America/New_York
BEGIN:DAYLIGHT
TZOFFSETFROM:-0500
TZOFFSETTO:-0400
TZNAME:EDT
DTSTART:20250309T070000
END:DAYLIGHT
BEGIN:STANDARD
TZOFFSETFROM:-0400
TZOFFSETTO:-0500
TZNAME:EST
DTSTART:20251102T060000
END:STANDARD
BEGIN:DAYLIGHT
TZOFFSETFROM:-0500
TZOFFSETTO:-0400
TZNAME:EDT
DTSTART:20260308T070000
END:DAYLIGHT
BEGIN:STANDARD
TZOFFSETFROM:-0400
TZOFFSETTO:-0500
TZNAME:EST
DTSTART:20261101T060000
END:STANDARD
BEGIN:DAYLIGHT
TZOFFSETFROM:-0500
TZOFFSETTO:-0400
TZNAME:EDT
DTSTART:20270314T070000
END:DAYLIGHT
BEGIN:STANDARD
TZOFFSETFROM:-0400
TZOFFSETTO:-0500
TZNAME:EST
DTSTART:20271107T060000
END:STANDARD
END:VTIMEZONE
BEGIN:VEVENT
DTSTART;VALUE=DATE:20260204
DTEND;VALUE=DATE:20260205
DTSTAMP:20260423T134247
CREATED:20251114T023925Z
LAST-MODIFIED:20251114T023925Z
UID:7237-1770163200-1770249599@lepto.org
SUMMARY:4th and 5th grade concert (snow date)
DESCRIPTION:
URL:https://lepto.org/event/4th-and-5th-grade-concert-snow-date
END:VEVENT
BEGIN:VEVENT
DTSTART;VALUE=DATE:20260205
DTEND;VALUE=DATE:20260206
DTSTAMP:20260423T134247
CREATED:20250916T023344Z
LAST-MODIFIED:20250916T023344Z
UID:6664-1770249600-1770335999@lepto.org
SUMMARY:Early Release (12:10pm)
DESCRIPTION:
URL:https://lepto.org/event/early-release-1210pm-3
END:VEVENT
BEGIN:VEVENT
DTSTART;VALUE=DATE:20260216
DTEND;VALUE=DATE:20260221
DTSTAMP:20260423T134247
CREATED:20250916T023559Z
LAST-MODIFIED:20250916T023559Z
UID:6668-1771200000-1771631999@lepto.org
SUMMARY:Winter Recess
DESCRIPTION:
URL:https://lepto.org/event/winter-recess
END:VEVENT
END:VCALENDAR